BEGIN:VCALENDAR
VERSION:2.0
PRODID:-//Il Tempio della Dea - ECPv6.15.18//NONSGML v1.0//EN
CALSCALE:GREGORIAN
METHOD:PUBLISH
X-ORIGINAL-URL:https://tempiodelladea.org
X-WR-CALDESC:Eventi per Il Tempio della Dea
REFRESH-INTERVAL;VALUE=DURATION:PT1H
X-Robots-Tag:noindex
X-PUBLISHED-TTL:PT1H
BEGIN:VTIMEZONE
TZID:Europe/Rome
BEGIN:DAYLIGHT
TZOFFSETFROM:+0100
TZOFFSETTO:+0200
TZNAME:CEST
DTSTART:20250330T010000
END:DAYLIGHT
BEGIN:STANDARD
TZOFFSETFROM:+0200
TZOFFSETTO:+0100
TZNAME:CET
DTSTART:20251026T010000
END:STANDARD
BEGIN:DAYLIGHT
TZOFFSETFROM:+0100
TZOFFSETTO:+0200
TZNAME:CEST
DTSTART:20260329T010000
END:DAYLIGHT
BEGIN:STANDARD
TZOFFSETFROM:+0200
TZOFFSETTO:+0100
TZNAME:CET
DTSTART:20261025T010000
END:STANDARD
BEGIN:DAYLIGHT
TZOFFSETFROM:+0100
TZOFFSETTO:+0200
TZNAME:CEST
DTSTART:20270328T010000
END:DAYLIGHT
BEGIN:STANDARD
TZOFFSETFROM:+0200
TZOFFSETTO:+0100
TZNAME:CET
DTSTART:20271031T010000
END:STANDARD
END:VTIMEZONE
BEGIN:VEVENT
DTSTART;TZID=Europe/Rome:20261213T100000
DTEND;TZID=Europe/Rome:20261213T170000
DTSTAMP:20260420T012634
CREATED:20241023T074655Z
LAST-MODIFIED:20260128T095548Z
UID:7812-1797156000-1797181200@tempiodelladea.org
SUMMARY:Seminario di Introduzione ai Tarocchi della Dea con Sarah Perini:
DESCRIPTION:Seminario di Introduzione ai Tarocchi della Dea con Sarah Perini:\nOnline e in presenza: sab 13 dicembre 2025 dalle 10.00 alle 17.00. \nIn questo seminario impareremo a conoscere lo strumento dei tarocchi attraverso un excursus sugli arcani minori e gli arcani maggiori\, attraverso esercizi e meditazioni guidate e condivisioni di esperienze. Un laboratorio attivo dove incontreremo anche i mazzi di carte oracolari e le sibille\, comprenderemo la differenza con i tarocchi. Si parlerà di come questi strumenti siano utili per l’orientamento e il counseling olistico. \nRiceverete dispense molto approfondite del corso che potrete approfondire anche in seguito ricevendo tutoring. \nContributo di Partecipazione: \nIl contributo di partecipazione è di: 100\,00€\nIl Corso è destinato alle socie/i dell’Associazione Il Tempio della Dea è richiesto il tesseramento annuale di 10\,00€ all’iscrizione. \nIl versamento dei contributi può avvenire tramite bonifico bancario sul c/c intestato a:\nAssociazione di Promozione Sociale e Centro Ricerche per la Partnership Il Tempio della Dea\nBanca Intesa San Paolo\nIBAN: IT91 A030 6909 6061 0000 0136 346\nCausale: Proprio Cognome + Contributo Seminario \nPER ISCRIZIONI SCRIVERE A: info@tempiodelladea.org \n\n\nScopri sul Sito di Edizioni Lo Scarabeo l’Oracolo del Tempio della Dea:\ndi Sarah Perini e Elena Albanese\, The Goddess Temple Oracle Cards \n\n\n\n\n\n\n\n\n\n\n\n\n\nDal sito Lo Scarabeo: “Un Oracolo profondo\, di antica saggezza. Elena Albanese e Sarah Perini\, hanno ideato un mazzo oracolare sul tema della Dea. Ogni carta è come un tempio\, che contiene ed accoglie il potere senza tempo della Dea nelle sue molteplici sfaccettature\, insieme al passaggio e alla rotazione della Ruota dell’Anno”. \n\n\n\n\n\n\nSarah Perini\, arte di Elena Albanese\,\n45 carte\, 88×125 mm.\nIstruzioni. Edizione Multilingue. \n\n\n\n\nScopri anche il Percorso in 10 incontri\ndisponibile in forma individuale online e/o in presenza\nè possibile iscriversi in qualsiasi momento dell’anno\nPercorso Formativo: I Tarocchi della Dea con Sarah Perini\nAttraverso l’apprendimento dello strumento divinatorio e la riflessione sulle immagini e sui significati degli archetipi che compaiono all’interno della lettura dei tarocchi\, attraverso l’apprendimento del significato degli Arcani e dell’esperienza del consulto\, impareremo ad ascoltare\, comprendere e lasciar emergere le indicazioni che la nostra interiorità e il disegno superiore ci mostrano. \nUn’occasione per conoscere il potenziale di conoscenza di Sè che gli archetipi contengono. In questo percorso andremo a fare uno studio comparato tra alcuni mazzi differenti di tarocchi per comprendere le varie tradizioni. \n\nIl percorso prevede:\nIl corso è individuale ed è possibile richiederlo online o in presenza\, è generalmente articolato in 12 lezioni di 2 ore ciascuna.\nIl corso può iniziare in qualsiasi periodo dell’anno e gode di un orario ed una frequenza flessibili strutturabili sulle esigenze personali. \nIl Percorso non rilascia nessun certificato\, ma semplicemente un attestato di partecipazione. \n\nCome si sviluppa il Percorso\n\nINTRODUZIONE:\nStoria della disciplina oracolare e tipologie di sistemi di divinazione\, genesi e diffusione dei Tarocchi\, scuole di pensiero e di pratica della disciplina.\nSpiegazione del approccio comparativo di studio proposto nel corso e indicazioni pratiche.\nSPIEGAZIONE E APPRENDIMENTO DEGLI ARCANI MINORI:\nSeme di Bastoni: 1-2-3-4-5-6-7-8-9-10; principessa\, regina\, cavaliere\, re; esercitazioni.\nSeme di Coppe: 1-2-3-4-5-6-7-8-9-10; principessa\, regina\, cavaliere\, re; esercitazioni.\nSeme di Denari: 1-2-3-4-5-6-7-8-9-10; principessa\, regina\, cavaliere\, re; esercitazioni.\nSeme di Spade: 1-2-3-4-5-6-7-8-9-10; principessa\, regina\, cavaliere\, re; esercitazioni.\nSPIEGAZIONE E APPRENDIMENTO DEGLI ARCANI MAGGIORI:\n0. Il Matto; 1. Il Mago; 2. La Papessa; 3. L’Imperatrice; 4. L’Imperatore; 5. Il Papa; 6. Gli Amanti; 7. Il Carro; 8. La Forza; 9. L’ Eremita; 10. La Ruota della Fortuna; 11. La Giustizia; 12. L’Appeso; 13. La Morte; 14. La Temperanza; 15. Il Diavolo; 16. La Torre; 17. La Stella; 18. La Luna; 19. Il Sole; 20. Il Giudizio; 21. Il Mondo.\nESERCITAZIONI:\nDurante lo svolgimento del corso si terranno esercitazioni sulla pratica e l’apprendimento degli schemi di lettura.\n\n\nMateriale di Studio :\nPer lo svolgimento del corso sono necessari i seguenti testi e mazzi di tarocchi: \n\nSarah Perini\, Elena Albanese\, L’Oracolo del Tempio della Dea\, Ed. Lo Scarabeo;\nMarianne Costa\, I Tarocchi Passo a Passo\, Om Edizioni;\nA. Jodorowsky\, M. Costa\, La via dei Tarocchi\, Ed. Feltrinelli\, libro;\nA. Jodorowsky\, Tarot de Marseille\, Ed. Camoin\, mazzo di carte;\nVicki Noble\, Tarocchi Madrepace\, Ed. Us Games Systems\, mazzo di carte;\nVicki Noble\, Madrepace\, Ed. Psiche 2\, libro;\nP. Carr Gomm\, Tarocchi Druid Craft\, Ed. Terra del Sacro Bosco\, cofanetto contente mazzo e libro;\n\nIl materiale didattico è necessario allo svolgimento del corso poiché verranno proposti approfondimenti e confronti tra i suddetti testi e mazzi di carte. \nSaranno consegnate dispense esplicative. Munirsi di quaderno e penna per gli appunti. Eventuale possibilità di registrazione della lezione. \n\nContributo di Partecipazione al percorso in 10 Incontri: \nIl contributo di partecipazione è di: 400\,00€\nIl Corso è destinato alle socie/i dell’Associazione Il Tempio della Dea è richiesto il tesseramento annuale di 10\,00€ all’iscrizione. \nIl versamento dei contributi può avvenire tramite bonifico bancario sul c/c intestato a:\nAssociazione di Promozione Sociale e Centro Ricerche per la Partnership Il Tempio della Dea\nBanca Intesa San Paolo\nIBAN: IT91 A030 6909 6061 0000 0136 346\nCausale: Proprio Cognome + Contributo Seminario \nPER ISCRIZIONI SCRIVERE A: info@tempiodelladea.org \n\n Sarah Perini: Laureata nel 2003 in Lingue e Letterature Straniere all’Università di Torino\, con Indirizzo Storico Culturale\, dal 1998 ha partecipato a master e seminari di argomento antropologico al Centro Interdipartimentale di Studi per le Donne dell’Università di Torino con Anna Brawer e Luciana Percovich\, approfondendo gli studi di genere e il lavoro di Maria Gimbutas e Riane Eisler. Diplomata come Counselor in Psicosintesi nel Corso Triennale all’Istituto Internazionale di Psicosintesi Educativa di Torino. Attualmente in ulteriore formazione alla Facoltà di Filosofia e Scienze e Tecniche Psicologiche dell’Università di Perugia. Accompagnatrice turistica professionale registrata dal 2023. Dal 2005 ha completato la sua formazione attraverso il contatto e l’apprendimento con i percorsi e le pratiche proposte da ricercatrici nel campo del Sacro Femminile in Italia e all’estero. Ha seguito il triennio formativo di Studi sulla spiritualità celtica al Glastonbury Goddess Temple. Ha collaborato dal 2006 con Morena Luciani e l’Associazione Laima nella creazione e organizzazione dei Convegni Culture Indigene di Pace e del Convegno Vent’anni di Studi su Maria Gimbutas. Dal 2005 al 2011 ha lavorato come Editor e Consulente Editoriale per la Casa Editrice Psiche 2\, seguendo dei progetti in collaborazione anche con la Casa Editrice Venexia. Dal 2012 ad oggi è consulente editoriale per la Casa Editrice Ester e per la Casa Editrice La Cicala. Curatrice di traduzioni e pubblicazioni sul Sacro Femminile. Dal 2015\, Presidentessa dell’Associazione e Centro Ricerche per la Partnership Il Tempio della Dea. Tiene e coordina seminari\, conferenze\, workshop. Ricercatrice indipendente\, autrice\, editor\, counselor. Da vent’anni lavora nel campo della spiritualità e nell’editoria di settore. È autrice dei libri: “Simboli e Riti delle Donne Celtiche. Regine e Dee al Tempo di Artù”\, disponibile anche in lingua inglese; di: “Chiedi alla Terra. L’Arte della Divinazione Geomantica”; di: “Il Simbolismo Magico del Caffè. La caffeomanzia\, il rituale divinatorio e la ricerca dei simboli come esperienza conoscitiva” e di “I riflessi della Dea”. \n\nInformazioni e iscrizioni: info@tempiodelladea.org \n\nTutti i contenuti sono soggetti a copyright ©
URL:https://tempiodelladea.org/evento/seminario-di-introduzione-ai-tarocchi-della-dea-con-sarah-perini/
LOCATION:Associazione di Promozione Sociale e Centro Ricerche per la Partnership Il Tempio della Dea\, C.so Vinzaglio 12 bis Torino
ATTACH;FMTTYPE=image/jpeg:https://tempiodelladea.org/nuovosito/wp-content/uploads/2021/12/oracolo-del-tempio-della-dea.jpg
END:VEVENT
END:VCALENDAR