BEGIN:VCALENDAR
VERSION:2.0
PRODID:-//Il Tempio della Dea - ECPv6.15.18//NONSGML v1.0//EN
CALSCALE:GREGORIAN
METHOD:PUBLISH
X-WR-CALNAME:Il Tempio della Dea
X-ORIGINAL-URL:https://tempiodelladea.org
X-WR-CALDESC:Eventi per Il Tempio della Dea
REFRESH-INTERVAL;VALUE=DURATION:PT1H
X-Robots-Tag:noindex
X-PUBLISHED-TTL:PT1H
BEGIN:VTIMEZONE
TZID:Europe/Rome
BEGIN:DAYLIGHT
TZOFFSETFROM:+0100
TZOFFSETTO:+0200
TZNAME:CEST
DTSTART:20250330T010000
END:DAYLIGHT
BEGIN:STANDARD
TZOFFSETFROM:+0200
TZOFFSETTO:+0100
TZNAME:CET
DTSTART:20251026T010000
END:STANDARD
BEGIN:DAYLIGHT
TZOFFSETFROM:+0100
TZOFFSETTO:+0200
TZNAME:CEST
DTSTART:20260329T010000
END:DAYLIGHT
BEGIN:STANDARD
TZOFFSETFROM:+0200
TZOFFSETTO:+0100
TZNAME:CET
DTSTART:20261025T010000
END:STANDARD
BEGIN:DAYLIGHT
TZOFFSETFROM:+0100
TZOFFSETTO:+0200
TZNAME:CEST
DTSTART:20270328T010000
END:DAYLIGHT
BEGIN:STANDARD
TZOFFSETFROM:+0200
TZOFFSETTO:+0100
TZNAME:CET
DTSTART:20271031T010000
END:STANDARD
END:VTIMEZONE
BEGIN:VEVENT
DTSTART;TZID=Europe/Rome:20260107T183000
DTEND;TZID=Europe/Rome:20260107T203000
DTSTAMP:20260423T141515
CREATED:20250929T080538Z
LAST-MODIFIED:20250929T080538Z
UID:8658-1767810600-1767817800@tempiodelladea.org
SUMMARY:Percorso Gli Archetipi del Maschile Interiore sulla Ruota di Rhiannon con Katinka Soetens
DESCRIPTION:Percorso Gli Archetipi del Maschile Interiore sulla Ruota di Rhiannon con Katinka Soetens ©\nIl Percorso è completamente ONLINE e si svolge in 8 serate dalle ore 18.30 alle ore 20.30\nCondotto da Katinka Soetens in inglese con traduzione in diretta in italiano. \nIn questa nuova edizione del Percorso esploreremo non solamente gli Archetipi del Maschile Sacro nei loro aspetti di Luce e di Ombra\, ma esperiremo anche delle meditazioni guidate e degli esercizi per incontrare e visualizzare queste parti di noi e della nostra interiorità\, inoltre comprenderemo l’importanza di far incontrare ed integrare gli aspetti del maschile con quelli del Femminile dentro e fuori di noi\, il percorso di propone quindi di accompagnare all’apprendimento di pratiche di integrazione dei concetti e delle energie connesse a questi archetipi interiori. \nQuesto percorso è dedicato a tutte le donne e agli uomini che vogliono conoscersi più a fondo e comprendere meglio cosa significa esplorare il maschile e femminile interiore presente nella nostra coscienza ed approfondire lo studio e l’interiorizzazione degli archetipi del Maschile\, complementari a quelli del Sacro Femminile. Nove serate trasformative di processi conoscitivi\, meditazioni e viaggi interiori di integrazione\, dedicati agli aspetti maschili della Ruota di Rhiannon creata da Katinka Soetens sulla base della Ruota dell’Anno protoeuropea. \nQuando ci spostiamo da un luogo di equilibrio interiore\, da un luogo di gioia pacifica all’interno del nostro nucleo interiore d’Amore\, il mondo esterno e tutte le nostre relazioni formano un riflesso di quella grazia. Durante questo percorso sarete invitate ad entrare profondamente nello Spazio Sacro\, richiamando a casa le vostre parti femminili e maschili e dando il benvenuto alla partnership interiore\, dalla quale molte di noi sono completamente sconnesse\, la riconnessione alla quale siamo chiamate ci dà la capacità di manifestare la vita che desideriamo. \nEsploreremo le ripetizioni dei modelli disfunzionali che tendono a farci ripetere nella vita sempre le stesse situazioni\, impareremo a riconoscere e decidere di far cadere il nostro scudo e lasciar andare il risentimento\, il ruolo della vittima\, il desiderio rinnegato e riprenderci una chiara responsabilità e una riconnessione con le nostre emozioni. Sperimenteremo l’apertura alla danza dell’abbandono e della presenza in voi\, in modo che possa manifestarsi in tutti gli aspetti della vostra vita\, specialmente nelle vostre relazioni d’amore. Esploreremo l’apertura del cuore e l’energia archetipica e l’espressione di potenziamento del maschile e femminile interiore. \nScopriremo il percorso che tutte possiamo fare per incontrare e conoscere l’Amante Interiore\, che può nascondersi sia nella fiamma del desiderio che nell’ombra dei nostri modelli distorti e delle nostre ferite emotive e fisiche\, ma in realtà è il Custode dell’Oro e del nostro Essere autentiche e dell’imparare ad Amare. Lavorando con l’espressione di archetipi di luce e di ombra della Ruota di Rhiannon\, questa ricerca si muoverà attraverso i reami della nostra psiche. Entrare nella danza e nell’integrazione del Femminile e del Maschile interiore\, impegnarsi a trasformare i nostri timori e conoscere i nostri doni preziosi. \n\nKatinka Soetens\n \nOriginaria dei Paesi Bassi\, vive a Glastonbury/Avalon counselor certificata in Inghilterra e insegnante a livello internazionale nel potenziamento di sé attraverso la conoscenza del Sacro Femminile. Organizza regolarmente Moon-lodges e Cerchi Sacri per donne\, uomini e gruppi misti\, condividendo il Sentiero del Sacro Femminile con seminari e conferenze nel Regno Unito e nel mondo. Conduce cerimonie\, training e seminari sulla Dea per onorare la Spirale della Vita radicata nella spiritualità indigena delle terre europee e nella tradizione di Avalon. Katinka Soetens\, counselor e cerimonialista\, insegnante prenatale e doula\, è docente del corso triennale: “La Via di Rhiannon” a Glastonbury e in Italia\, facilita anche un percorso di un anno per gli uomini la “Fratellanza di Rhiannon”\, di cui sono attivi anche dei cerchi in Italia. È la direttrice e creatrice della Moon Butterflies-CIC\, un viaggio di conoscenza delle Tredici Lune all’interno dei Misteri della Fanciulla\, per le ragazze. Katinka è madre di tre figli\, doula\, danzatrice\, counselor; in Inghilterra. Lavora sul corpo attraverso percorsi di sacra intimità\, fertilità\, conoscenza del corpo\, perdono\, guarigione\, celebrazioni\, porta la sua visione della vita a luoghi e persone nel mondo. Organizzatrice del Festival annuale Glastonbury Goddess Conference (www.goddessconference.com) e fondatrice del Temple of Avalon (www.templeofavalon.co.uk). \nIl suo sito: https://pathoflovemysteryschool.com/ \n\nDate degli 8 incontri online che si terranno online dalle ore 18.30 alle 20.30:\n\nMercoledì 5 Novembre 2025\, h. 18.30-20.30\nMercoledì 19 Novembre 2025\, h. 18.30-20.30\nMercoledì 10 Dicembre 2025\, h. 18.30-20.30\nMercoledì 7 Gennaio 2026\, h. 18.30-20.30\nMercoledì 21 Gennaio 2026\, h. 18.30-20.30\nMercoledì 9 Febbraio 2026\, h. 18.30-20.30\nMercoledì 25 Febbraio 2026\, h. 18.30-20.30\nMercoledì 18 Marzo 2026\, h. 18.30-20.30\n\n\nContributo di Partecipazione:\nIl contributo del percorso di 8 incontri online è di: 480\,00€\, donabile in tre rate di 160€\nIl Corso è destinato alle socie/i dell’Associazione Il Tempio della Dea\nè richiesto il tesseramento annuale di 10\,00€ all’iscrizione.\nIl versamento delle donazioni può avvenire tramite bonifico bancario sul c/c intestato a:\nAssociazione di Promozione Sociale e Centro Ricerche per la Partnership Il Tempio della Dea\nBanca Intesa San Paolo\nIBAN: IT91 A030 6909 6061 0000 0136 346\nCausale: Proprio Cognome + Donazione percorso M. K.Soetens \nInformazioni e iscrizioni: info@tempiodelladea.org
URL:https://tempiodelladea.org/evento/percorso-gli-archetipi-del-maschile-interiore-sulla-ruota-di-rhiannon-con-katinka-soetens-14/
ATTACH;FMTTYPE=image/jpeg:https://tempiodelladea.org/nuovosito/wp-content/uploads/2021/12/Coppiasacra2.jpg
END:VEVENT
BEGIN:VEVENT
DTSTART;TZID=Europe/Rome:20260121T080000
DTEND;TZID=Europe/Rome:20260121T170000
DTSTAMP:20260423T141515
CREATED:20260121T183631Z
LAST-MODIFIED:20260121T183650Z
UID:8829-1768982400-1769014800@tempiodelladea.org
SUMMARY:Sollevare i Veli di Maddalena\, Percorso Esperienziale e Didattico con Gessica Occhionero
DESCRIPTION:Sollevare i Veli di Maddalena\, Percorso Esperienziale e Didattico con Gessica Occhionero ©\nPercorso in 8 incontri online e in presenza \nTutti i contenuti sono soggetti a copyright © \nIn questo spazio\, dedicato alla figura di Maria Maddalena\, andremo a sollevare tutti quei veli che hanno oscurato la sua immagine di donna e la sua reale identità. Myriam di Magdala era una donna libera e piena di conoscenza. Un modello scomodo per il patriarcato che\, occultando il vero ruolo di Maria Maddalena\, e tutto ciò che lei rappresentava\, ha potuto soggiogare e manipolare intere generazioni di donne. \nDopo aver accennato al contesto storico e culturale in cui visse la Maddalena\, parleremo delle sue origini celate\, e dell’umanità del suo operato\, appositamente manipolati\, capiremo dove sta l’errata interpretazione della sua figura di donna. Emergerà la sacralità del suo ruolo. Riappropriandoci di un’altra verità su Maria Maddalena riscopriamo\, e riaccettiamo\, il nostro femminile\, il Femminino Sacro che c’è in ogni donna.\nEsploreremo esercitazioni per vivere l’energia d’Amore che portava Maria Maddalena e meditazioni in cui lavoreremo con l’energia del Calice e l’energia della Rosa\, due simboli che le appartengono\, e che richiameranno la sacralità femminile.\nRicontattando attraverso l’ascolto e l’esperienza il nucleo animico di questa grande anima scopriremo i luoghi di guarigione e di trasformazione dentro e fuori di noi. \n\nArgomenti:  \nil programma completo e le dispense verranno consegnate alle iscritte \n● La figura storica di Maria Maddalena ed il contesto culturale in cui visse. \n● Maria Maddalena Guaritrice Essena: parlare all’Anima. \n● Il riequilibrio attraverso l’uso degli oli essenziali. \n● Il riequilibrio attraverso l’uso della voce e dei suoni. \n● Maria Maddalena come Donna Sacra. \n● Danza Sacra: onorare la Dea ed il nostro corpo quale Tempio. \n● Il vero messaggio di Maria Maddalena: una Nuova Visione dell’Amore. \n● Il vero messaggio di Maria Maddalena: la Coppia Sacra per condividersi ed evolvere insieme. \n● Esercizi\, meditazioni ed ascolto energetico. \n● Dedicarsi e comprendere il senso del Camminare la Via di Maria Maddalena. \n\n\nGessica Occhionero: Laureata in Lingue e Letterature Straniere all’Università di Torino; Diplomata in Naturopatia\, consegue il titolo di studio presso l’Università Popolare A.E.ME.TRA. di Torino. Dedica maggior approfondimento al campo dell’alimentazione\, e a quello dei disturbi fisiologici legati all’apparato genitale della donna. La consapevolezza che dietro ad ogni squilibrio fisico ci sia una causa energetica la porta\, nel 2015\, a completare un percorso in Terapia Energetica Avanzata\, per lavorare sui blocchi della persona. Da qualche anno il suo cammino nel mondo olistico si è rivolto allo studio degli effetti che il colore\, e il suono della voce umana\, hanno sul riequilibrio psico-fisico di ognuno di noi\, per integrarli nel suo lavoro. Ha partecipato a più seminari sull’uso della Voce Quantica con vari insegnanti\, tra cui il cantante classico\, direttore di coro e compositore Anders Holte. Moon Mother nel percorso di Miranda Gray\, la via del Sacro Divino Femminile si apre\, in lei\, attraverso la forte connessione con la figura di Maria Maddalena. Si forma ulteriormente nel Percorso La Via di Rhiannon con Katinka Soetens. \n\n \n\nDATE EDIZIONE 2026/2027\nIscrizioni aperte scrivendo a info@tempiodelladea.org \n\nSABATO 20 GIUGNO 2026 DALLE 10.00 ALLE 17.00 Seminario sulla Dea Hathor\nDOMENICA 4 OTTOBRE 2026\nSABATO 28 NOVEMBRE 2026\nSABATO 30 GENNAIO 2027\nSABATO 27 FEBBRAIO 2027\nSABATO 27 MARZO 2027\nDOMENICA 11 APRILE 2027\nSABATO 29 MAGGIO 2027\n\n\nContributi di Partecipazione:\nIl contributo del percorso annuale è di: 850\,00€\nIl Corso è destinato alle socie/i dell’Associazione Il Tempio della Dea è richiesto il tesseramento annuale di 15\,00€ all’iscrizione. Le donazioni si possono versare nella seguente modalità: 8 donazioni da ottobre a giugno. \nNel contributo totale è compresa:\nLa partecipazione ai Cerchi di Workshop\, Meditazione e Condivisione e alla giornata conclusiva; le dispense\, le esercitazioni\, i materiali didattici. L’utilizzo degli spazi associativi per il residenziale. \nIl versamento può avvenire tramite bonifico bancario sul c/c intestato a:\nAssociazione di Promozione Sociale e Centro Ricerche per la Partnership Il Tempio della Dea\nBanca Prossima – Intesa San Paolo\nIBAN: IT91 A030 6909 6061 0000 0136 346\nCausale: Proprio Cognome + Donazione Percorso Maddalena \nPER ISCRIZIONI SCRIVERE A: info@tempiodelladea.org
URL:https://tempiodelladea.org/evento/sollevare-i-veli-di-maddalena-percorso-esperienziale-e-didattico-con-gessica-occhionero-7/
END:VEVENT
BEGIN:VEVENT
DTSTART;TZID=Europe/Rome:20260121T183000
DTEND;TZID=Europe/Rome:20260121T203000
DTSTAMP:20260423T141515
CREATED:20250929T080727Z
LAST-MODIFIED:20250929T080810Z
UID:8660-1769020200-1769027400@tempiodelladea.org
SUMMARY:Percorso Gli Archetipi del Maschile Interiore sulla Ruota di Rhiannon con Katinka Soetens
DESCRIPTION:Percorso Gli Archetipi del Maschile Interiore sulla Ruota di Rhiannon con Katinka Soetens ©\nIl Percorso è completamente ONLINE e si svolge in 8 serate dalle ore 18.30 alle ore 20.30\nCondotto da Katinka Soetens in inglese con traduzione in diretta in italiano. \nIn questa nuova edizione del Percorso esploreremo non solamente gli Archetipi del Maschile Sacro nei loro aspetti di Luce e di Ombra\, ma esperiremo anche delle meditazioni guidate e degli esercizi per incontrare e visualizzare queste parti di noi e della nostra interiorità\, inoltre comprenderemo l’importanza di far incontrare ed integrare gli aspetti del maschile con quelli del Femminile dentro e fuori di noi\, il percorso di propone quindi di accompagnare all’apprendimento di pratiche di integrazione dei concetti e delle energie connesse a questi archetipi interiori. \nQuesto percorso è dedicato a tutte le donne e agli uomini che vogliono conoscersi più a fondo e comprendere meglio cosa significa esplorare il maschile e femminile interiore presente nella nostra coscienza ed approfondire lo studio e l’interiorizzazione degli archetipi del Maschile\, complementari a quelli del Sacro Femminile. Nove serate trasformative di processi conoscitivi\, meditazioni e viaggi interiori di integrazione\, dedicati agli aspetti maschili della Ruota di Rhiannon creata da Katinka Soetens sulla base della Ruota dell’Anno protoeuropea. \nQuando ci spostiamo da un luogo di equilibrio interiore\, da un luogo di gioia pacifica all’interno del nostro nucleo interiore d’Amore\, il mondo esterno e tutte le nostre relazioni formano un riflesso di quella grazia. Durante questo percorso sarete invitate ad entrare profondamente nello Spazio Sacro\, richiamando a casa le vostre parti femminili e maschili e dando il benvenuto alla partnership interiore\, dalla quale molte di noi sono completamente sconnesse\, la riconnessione alla quale siamo chiamate ci dà la capacità di manifestare la vita che desideriamo. \nEsploreremo le ripetizioni dei modelli disfunzionali che tendono a farci ripetere nella vita sempre le stesse situazioni\, impareremo a riconoscere e decidere di far cadere il nostro scudo e lasciar andare il risentimento\, il ruolo della vittima\, il desiderio rinnegato e riprenderci una chiara responsabilità e una riconnessione con le nostre emozioni. Sperimenteremo l’apertura alla danza dell’abbandono e della presenza in voi\, in modo che possa manifestarsi in tutti gli aspetti della vostra vita\, specialmente nelle vostre relazioni d’amore. Esploreremo l’apertura del cuore e l’energia archetipica e l’espressione di potenziamento del maschile e femminile interiore. \nScopriremo il percorso che tutte possiamo fare per incontrare e conoscere l’Amante Interiore\, che può nascondersi sia nella fiamma del desiderio che nell’ombra dei nostri modelli distorti e delle nostre ferite emotive e fisiche\, ma in realtà è il Custode dell’Oro e del nostro Essere autentiche e dell’imparare ad Amare. Lavorando con l’espressione di archetipi di luce e di ombra della Ruota di Rhiannon\, questa ricerca si muoverà attraverso i reami della nostra psiche. Entrare nella danza e nell’integrazione del Femminile e del Maschile interiore\, impegnarsi a trasformare i nostri timori e conoscere i nostri doni preziosi. \n\nKatinka Soetens\n \nOriginaria dei Paesi Bassi\, vive a Glastonbury/Avalon counselor certificata in Inghilterra e insegnante a livello internazionale nel potenziamento di sé attraverso la conoscenza del Sacro Femminile. Organizza regolarmente Moon-lodges e Cerchi Sacri per donne\, uomini e gruppi misti\, condividendo il Sentiero del Sacro Femminile con seminari e conferenze nel Regno Unito e nel mondo. Conduce cerimonie\, training e seminari sulla Dea per onorare la Spirale della Vita radicata nella spiritualità indigena delle terre europee e nella tradizione di Avalon. Katinka Soetens\, counselor e cerimonialista\, insegnante prenatale e doula\, è docente del corso triennale: “La Via di Rhiannon” a Glastonbury e in Italia\, facilita anche un percorso di un anno per gli uomini la “Fratellanza di Rhiannon”\, di cui sono attivi anche dei cerchi in Italia. È la direttrice e creatrice della Moon Butterflies-CIC\, un viaggio di conoscenza delle Tredici Lune all’interno dei Misteri della Fanciulla\, per le ragazze. Katinka è madre di tre figli\, doula\, danzatrice\, counselor; in Inghilterra. Lavora sul corpo attraverso percorsi di sacra intimità\, fertilità\, conoscenza del corpo\, perdono\, guarigione\, celebrazioni\, porta la sua visione della vita a luoghi e persone nel mondo. Organizzatrice del Festival annuale Glastonbury Goddess Conference (www.goddessconference.com) e fondatrice del Temple of Avalon (www.templeofavalon.co.uk). \nIl suo sito: https://pathoflovemysteryschool.com/ \n\nDate degli 8 incontri online che si terranno online dalle ore 18.30 alle 20.30:\n\nMercoledì 5 Novembre 2025\, h. 18.30-20.30\nMercoledì 19 Novembre 2025\, h. 18.30-20.30\nMercoledì 10 Dicembre 2025\, h. 18.30-20.30\nMercoledì 7 Gennaio 2026\, h. 18.30-20.30\nMercoledì 21 Gennaio 2026\, h. 18.30-20.30\nMercoledì 9 Febbraio 2026\, h. 18.30-20.30\nMercoledì 25 Febbraio 2026\, h. 18.30-20.30\nMercoledì 18 Marzo 2026\, h. 18.30-20.30\n\n\nContributo di Partecipazione:\nIl contributo del percorso di 8 incontri online è di: 480\,00€\, donabile in tre rate di 160€\nIl Corso è destinato alle socie/i dell’Associazione Il Tempio della Dea\nè richiesto il tesseramento annuale di 10\,00€ all’iscrizione.\nIl versamento delle donazioni può avvenire tramite bonifico bancario sul c/c intestato a:\nAssociazione di Promozione Sociale e Centro Ricerche per la Partnership Il Tempio della Dea\nBanca Intesa San Paolo\nIBAN: IT91 A030 6909 6061 0000 0136 346\nCausale: Proprio Cognome + Donazione percorso M. K.Soetens \nInformazioni e iscrizioni: info@tempiodelladea.org
URL:https://tempiodelladea.org/evento/percorso-gli-archetipi-del-maschile-interiore-sulla-ruota-di-rhiannon-con-katinka-soetens-15/
ATTACH;FMTTYPE=image/jpeg:https://tempiodelladea.org/nuovosito/wp-content/uploads/2021/12/Coppiasacra2.jpg
END:VEVENT
BEGIN:VEVENT
DTSTART;TZID=Europe/Rome:20260131T100000
DTEND;TZID=Europe/Rome:20260131T130000
DTSTAMP:20260423T141515
CREATED:20241231T142430Z
LAST-MODIFIED:20251115T153650Z
UID:8207-1769853600-1769864400@tempiodelladea.org
SUMMARY:Lezione\, Celebrazione\, Condivisioni della Stagionalità di Imbolc 
DESCRIPTION:Lezione\, Celebrazione\, Condivisioni della Stagionalità di Imbolc – In Presenza e Online dalle 10.00 alle 13.00.\n\n\n\n\n\nVivere la Ruota dell’Anno di Avalon e di Diana ©\nTutti i contenuti sono soggetti a copyright ©\nPercorso annuale/biennale/triennale\, disponibile in forma individuale\, residenziale o online.\nQuesto corso nasce con l’intento di introdurre la conoscenza culturale ed esperire la pratica spirituale relative alla Ruota delle Dee di Britannia o Ruota dell’Anno di Avalon e a quella protoitalica della Dea Diana. Si può frequentare la 1°\, 2°\, 3° annualità\, anche non consecutivamente. In questo Percorso\, solo alla fine del terzo anno di formazione ci si dedicherà\, se lo si desidera\, come Sacerdotessa o Uomo Sacro della Dea. \nAlcuni argomenti e pratiche connesse del corso sono: \n\nConoscere e onorare la Dea nelle sue molteplici manifestazioni;\nConoscere la Ruota dell’Anno\nConoscere le Celebrazioni Stagionali;\nImparare a creare Celebrazioni dedicate alla Dea e alla vita delle Donne e degli Uomini che camminano il suo Sentiero;\nIl significato del termine “Sacerdotessa” e “Uomo Sacro della Dea”;\nEsercitazioni e meditazioni.\nEntreremo in contatto con le Dee connesse alla Ruota di Britannia e alla Ruota di Diana e con le Dee italiche ed i loro aspetti\, creeremo celebrazioni ed apprenderemo strumenti del sacro.\n\nSi lavorerà inoltre con la Ruota di Diana e sulla Ruota delle Dee Italiche e Mediterranee\, progetto nato per onorare le Dee della nostra terra. Le persone partecipanti saranno invitate a collaborare nella ricerca di informazioni e documentazione relativa alle divinità femminili protoitaliche\, conosciute a livello regionale e nazionale\, nelle diverse parti della penisola con l’obiettivo di ricostruire e attualizzare le pratiche del sacro tipicamente italiche. \nIl percorso è aperto alle Donne e agli Uomini che sono interessati a riscoprire il sacro femminile che è in tutte-i noi\, a riportare equilibrio tra il maschile e il femminile\, a riscrivere il significato del sacro femminile e maschile in linea con i principi della spiritualità della Dea oggi. \n\nCome si sviluppa Il Percorso Vivere la Ruota dell’Anno di Avalon e di Diana © con Sarah Perini\n\n\n1°Anno – Prima Ruota\n2°Anno – Seconda Ruota\n3°Anno – Terza Ruota\n\nNella Prima Ruota si affronteranno i concetti basilari della conoscenza della Ruota di Avalon e della Ruota Italica di Diana\, il significato degli archetipi della Ruota e delle Celebrazioni Stagionali e si imparerà a potenziare la presenza del Sacro Femminile nella propria vita e a vivere cerimonie e condivisioni in Cerchio. \nNella Seconda Ruota si approfondirà la conoscenza degli strumenti pratici\, di connessione\, di meditazione e divinatori\, il senso del percorso spirituale nella propria vita\, il significato della costruzione di una comunità e si imparerà a costruire e partecipare praticamente a cerimonie. \nNella Terza Ruota si approfondiranno le tematiche del sacro femminile tramite conferenze esplicative e lezioni teoriche e pratiche; oltre che attraverso la lettura integrale dei testi principali del percorso con un analisi mensile di confronto; ogni partecipante imparerà inoltre a condurre singolarmente una cerimonia stagionale e un workshop. Si approfondirà la conoscenza della Ruota delle Dee italiche e mediterranee e di Diana\, per questo obiettivo ogni partecipante svilupperà individualmente o in piccoli gruppi una Ruota completa di una specifica tra le Dee italiche a propria scelta. \nI corsi si svolgono dal mese novembre di ogni anno fino al mese di ottobre successivo\, è previsto un colloquio conoscitivo prima di accedere al percorso\, su richiesta si può richiedere di accedere al percorso anche in altri momenti dell’anno previa valutazione. \n\nCome si sviluppa il PERCORSO ON-LINE\nSegue lo stesso programma formativo del percorso residenziale\, ma è un percorso individuale che dà la possibilità di partecipare anche ad un gruppo di studio e pratica online su Zoom (oltre che alle lezioni individuali online) composto da tutte le partecipanti delle ruote online.\nInoltre\, apre alla partecipazione alle Celebrazioni al Tempio della Dea di Torino e suggerisce vivamente la partecipazione a due dei seminari propedeutici annuali proposti alla pagina Eventi del nostro sito. \nPer le Ruote Online il Programma\, il Calendario e gli orari si strutturano individualmente\, contattare la facilitatrice Sarah Perini  a: info@tempiodelladea.org \nPer chi è iscritta/o al percorso residenziale a Torino è richiesta la presenza agli incontri indicati in quanto il corso si sviluppa secondo un andamento progressivo\, perdere una lezione significa perdere una parte integrante dell’insieme e la presenza è propedeutica anche alla creazione di un gruppo di lavoro e di un Cerchio di Pratica. \nSia per chi partecipa al percorso residenziale che online è altamente consigliata la partecipazione ai seminari correlati. \n\nTesti di studio e materiali\n\nMarija Gimbutas\, Il linguaggio della Dea\, Venexia Edizioni.\nRiane Eisler\, Il calice e la spada\, Forum Editrice.\nRiane Eisler\, Il piacere è sacro\, Forum Editrice.\nSarah Perini\, Simboli e Riti delle Donne Celtiche\, Ed. Psiche 2.\nKathy Jones\, Camminando sulla Ruota della Dea Ana\, Le Ruote dell’Anno nelle antiche tradizioni\, Ester Ed.\nKathy Jones\, La Dea nell’Antica Britannia. Miti\, leggende\, siti sacri\, Ed.Psiche 2\nKathy Jones\, Sacerdotessa di Avalon\, Sacerdotessa della Dea\, Ester Ed.\n9 Dispense di Studio con Esercitazioni\n9 meditazioni guidate in file audio\n8 Cerchi di Celebrazioni Stagionali (composte da chiamata della Ruota\, introduzione al significato della stagione-archetipo-elemento\, meditazione\, cerimonia\, condivisione di gruppo)\n8 Cerchi di Lezione Teorica e Condivisione Esperienze\nIncontri di confronto e approfondimento sui testi di studio indicati in bibliografia da leggere durante l’anno.\n1 Giornata per le Cerimonie di Dedicazione.\n\n\nIl corso prevede:\n\nEsercitazioni scritte e pratiche e confronti orali mensili di gruppo e/o individuali. Le esercitazioni saranno inviate insieme al materiale di studio e sarà richiesto il completamento delle stesse prima di ogni incontro o sessione online; le esercitazioni saranno visionate dalla facilitatrice e discusse.\nApprendimento e pratica di strumenti durante le giornate di workshop.\n\nIl Percorso non rilascia nessun certificato\, ma semplicemente un attestato di partecipazione. \nNessuno di questi percorsi o sessioni sostituisce in nessun modo percorsi psicanalitici o medici. Ci riserviamo di inviare direttamente a chi di competenza per questi tipi di servizi e vi chiediamo di rivolgervi esclusivamente a psicologhe\, psicologi\, analisti e medici se avete bisogno di indicazioni e diagnosi in tali campi. Grazie. \n\nContributi di Partecipazione:\nIl contributo del percorso annuale è di: 850\,00€\nIl Corso è destinato alle socie/i dell’Associazione Il Tempio della Dea è richiesto il tesseramento annuale di 15\,00€ all’iscrizione. \nIl contributo si può versare nella seguente modalità: \n\nRateizzazione in 8 rate da novembre a giugno\nè possibile richiedere agevolazioni e tariffe speciali\n\nNel contributo totale è compresa:\nTutto ciò che è indicato sopra\, la partecipazione ai Cerchi di Celebrazione\, ai Cerchi di Workshop e ai Cerchi di Condivisione e alla giornata conclusiva; le dispense\, le meditazioni\, le schede di esercitazione e la loro verifica. L’utilizzo degli spazi associativi per il residenziale. \nIl versamento dei contributi può avvenire tramite bonifico bancario sul c/c intestato a:\nAssociazione di Promozione Sociale e Centro Ricerche per la Partnership Il Tempio della Dea\nBanca Prossima – Intesa San Paolo\nIBAN: IT91 A030 6909 6061 0000 0136 346\nCausale: Proprio Cognome + Donazione Percorso Ruota dell’Anno \n\n\n\n\n\n\n\n\n\n\n\nFacebookXLinkedInWhatsAppTelegramEmail
URL:https://tempiodelladea.org/evento/lezione-celebrazione-condivisioni-della-stagionalita-di-imbolc/
LOCATION:Associazione di Promozione Sociale e Centro Ricerche per la Partnership Il Tempio della Dea\, C.so Vinzaglio 12 bis Torino
ATTACH;FMTTYPE=image/jpeg:https://tempiodelladea.org/nuovosito/wp-content/uploads/2021/12/wendi-andrew-ruota-diana.jpg
END:VEVENT
END:VCALENDAR