BEGIN:VCALENDAR
VERSION:2.0
PRODID:-//Il Tempio della Dea - ECPv6.15.18//NONSGML v1.0//EN
CALSCALE:GREGORIAN
METHOD:PUBLISH
X-WR-CALNAME:Il Tempio della Dea
X-ORIGINAL-URL:https://tempiodelladea.org
X-WR-CALDESC:Eventi per Il Tempio della Dea
REFRESH-INTERVAL;VALUE=DURATION:PT1H
X-Robots-Tag:noindex
X-PUBLISHED-TTL:PT1H
BEGIN:VTIMEZONE
TZID:Europe/Rome
BEGIN:DAYLIGHT
TZOFFSETFROM:+0100
TZOFFSETTO:+0200
TZNAME:CEST
DTSTART:20240331T010000
END:DAYLIGHT
BEGIN:STANDARD
TZOFFSETFROM:+0200
TZOFFSETTO:+0100
TZNAME:CET
DTSTART:20241027T010000
END:STANDARD
BEGIN:DAYLIGHT
TZOFFSETFROM:+0100
TZOFFSETTO:+0200
TZNAME:CEST
DTSTART:20250330T010000
END:DAYLIGHT
BEGIN:STANDARD
TZOFFSETFROM:+0200
TZOFFSETTO:+0100
TZNAME:CET
DTSTART:20251026T010000
END:STANDARD
BEGIN:DAYLIGHT
TZOFFSETFROM:+0100
TZOFFSETTO:+0200
TZNAME:CEST
DTSTART:20260329T010000
END:DAYLIGHT
BEGIN:STANDARD
TZOFFSETFROM:+0200
TZOFFSETTO:+0100
TZNAME:CET
DTSTART:20261025T010000
END:STANDARD
END:VTIMEZONE
BEGIN:VEVENT
DTSTART;TZID=Europe/Rome:20250919T100000
DTEND;TZID=Europe/Rome:20250921T170000
DTSTAMP:20260423T195647
CREATED:20250401T155752Z
LAST-MODIFIED:20250901T131237Z
UID:8434-1758276000-1758474000@tempiodelladea.org
SUMMARY:Dame del Lago: Custodi del Graal e delle Acque Sacre. Percorso con Katinka Soetens
DESCRIPTION:Dame del Lago: Custodi del Graal e delle Acque Sacre. Percorso con Katinka Soetens \nPercorso con Katinka Soetens\, in presenza e online:\nLe Dame del Lago: Custodi del Graal e delle Acque Sacre. \nAttraverso la saggezza della mitologia arturiana del Graal e la magia delle Signore del Lago\, ti auto-iniziereai come Custode delle Acque Sacre\, Guardiana del Graal di questa epoca.\nIntraprenderemo un viaggio insieme in cerchio\, in una sorellanza\, attraverso 2 ritiri residenziali di 3 giorni ciascuno e 3 incontri online su Zoom di un’intera giornata\, per immergerci profondamente nei misteri delle Signore del Lago. \nTanto tempo fa\, quando la terra era sacra e le acque onorate come presenze viventi\, i misteri di Avalon erano fonte di potere per coloro che amavano la Dea. Allora sapevamo che il Graal era la Fonte Divina del Femminile\, custodita dalle Sacerdotesse del Graal e protetta dai Cavalieri del Graal. \nIl Graal Sacro è ancora oggi una fonte di magia\, guarigione\, connessione\, azione giusta e presenza delle Signore del Lago\, simboleggiata dalle Acque Sacre. L’Acqua è Vita. L’Acqua è Sacra. L’Acqua è Fonte del Femminile. \nEppure\, non trattiamo l’acqua con il rispetto che merita. Cosa accade quando la relazione sacra con questa Fonte viene dimenticata e disonorata? Come possiamo ristabilire e riconnetterci a questa antica saggezza del Graal? \nCome donne\, è tempo di reclamare e riconnetterci ai misteri del nostro Graal interiore e di riscoprirci Donne del Graal\, Guardiane delle Acque Sacre\, iniziatrici e custodi della magia delle Signore del Lago. \nLa Signora del Lago emerge dallo specchio eterno del cuore. Attraverso le nebbie del tempo\, si leva per riconoscerci come custodi della Sua saggezza. Sei pronta a riscoprire la tua connessione con la tua sacra Fonte\, il Santo Graal dentro di te? \nLe Signore del Lago sono le Sacerdotesse del Pozzo Sacro e di tutte le fonti di guarigione e di tutte le acque\, dei laghi\, dei \, fiumi\, delle fonti termali e dei mari\, il loro Nome Sacro è spesso associato a quello di Viviana\, Nimue\, La Dama del Lago\, ma sono conosciute con molti nomi diversi e sono legate a diverse acque sacre. \nSono anche Dee dell’Altromondo che portano chiarezza\, scopo\, guarigione e integrazione nella coscienza. Dal profondo inconscio\, attraverso il velo del subconscio\, Esse rivelano il mistero del Graal che guarisce e rende interi. Sulla via del ricordo e della riconquista di questa saggezza ci sono delle guide. Si nascondono nella memoria popolare\, nei riti sacri delle nostre nostri antenate-i celtici e nei racconti della Cerca del Graal. Le Custodi del Graal ci accompagnano sempre: per iniziarci\, metterci alla prova\, guarirci e riallinearci nelle nostre azioni. \nTi sei mai chiesta perché solo il maschile\, come rito di passaggio nella maturità\, debba partire per cercare il Graal? Cosa significa quando\, lungo il percorso di questa ricerca\, i Cavalieri del Graal incontrano le Ancelle del Graal? Nella mitologia arturiana\, troviamo un incontro paritario tra Cavalieri e Ancelle del Graal. Insieme custodiscono la Fonte Sacra\, non l’uno per l’altro\, ma in comunione con la Signora del Lago. Chiunque cerchi la Signora deve trovarla nello specchio immobile del cuore\, risvegliare il Graal osando pronunciare le parole di saggezza del grembo e bere dalle acque sorgive che racchiude. \nSei pronta a esplorare la domanda che il Graal pone a ciascuna di noi: “Chi serviamo?” Durante questo percorso\, nei due ritiri in presenza e nei tre incontri online\, ci confronteremo con questa domanda dell’anima. Riscopriremo cosa sia il Graal\, dove trovarlo\, come attivarlo e prendercene cura\, e come percepire la sua presenza dentro di noi. Tra un incontro e l’altro\, ci assumeremo la responsabilità di diventare autentiche Custodi delle Acque Sacre\, con azioni visibili e concrete nella nostra quotidianità. Ognuna di noi sceglierà una fonte d’acqua vicino a casa\, da onorare e custodire. Come donne magiche e consapevoli\, ci trasformeremo nei vasi viventi delle Signore del Lago\, divenendo Guardiane del Graal\, Custodi delle Acque Sacre. \nDesideri riconnetterti alla Fonte vivente\, guaritrice e potente del Sacro Femminile? Stai cercando la strada per tornare a una relazione sana con te stessa\, con le altre donne e con la comunità in generale? Ti piacerebbe sentirti incoraggiata a trasformare la tua connessione con la Dea in un vero attivismo per la Terra\, iniziando a fare la differenza nel modo in cui l’acqua viene trattata nella tua terra?\nSe senti il richiamo delle Signore del Lago\, questo è il momento di rispondere. Ti aspettiamo nel cerchio. \nDate e Luogo \n\nParte 1: ven-sab-dom 19-20-21 settembre 2025\, in presenza\, Presso Tempio della Dea di Torino\, c.so Vinzaglio 12 bis\nParte 2: 29 novembre 2025 (online – Zoom)\nParte 3: 28 febbraio 2026 (online – Zoom)\nParte 4: 18 aprile 2026 (online – Zoom)\nParte 5: 5-6-7 giugno 2026 (in presenza\, 3 giorni residenziali) – Madonna Nera di Graglia e Lago Sirio Ivrea\n\n_____________________________________________________________________________________ \nSuggerita la lettura del libro: \nSarah Perini\, Simboli e Riti delle Donne Celtiche. Regine e Dee al tempo di Artù. Edizioni Ester \n  \n_____________________________________________________________________________________ \nDonazione di partecipazione al percorso: €900\n*Il Corso è destinato alle socie/i dell’Associazione Il Tempio della Dea è richiesto il tesseramento annuale base di 10\,00€ all’iscrizione. (I PASTI E I PERNOTTAMENTI DELLE GIORNATE RESIDENZIALI SONO ESCLUSI) \nIl contributo si può versare in 4 rate nella seguente modalità:\nbonifico bancario sul c/c intestato a:\nAssociazione di Promozione Sociale e Centro Ricerche per la Partnership\nIl Tempio della Dea\nBanca Intesa San Paolo\nIBAN: IT91 A030 6909 6061 0000 0136 346\nCausale: Proprio Cognome + Erogazione Liberale Percorso G Katinka Soetens \n_____________________________________________________________________________________ \nKatinka Soetens\nOriginaria dei Paesi Bassi\, vive a Glastonbury/Avalon counselor certificata in Inghilterra e insegnante a livello internazionale nel potenziamento di sé attraverso la conoscenza del Sacro Femminile. Organizza regolarmente Moon-lodges e Cerchi Sacri per donne\, uomini e gruppi misti\, condividendo il Sentiero del Sacro Femminile con seminari e conferenze nel Regno Unito e nel mondo. Conduce cerimonie\, training e seminari sulla Dea per onorare la Spirale della Vita radicata nella spiritualità indigena delle terre europee e nella tradizione di Avalon. Katinka Soetens\, counselor e cerimonialista\, insegnante prenatale e doula\, è docente del corso triennale: “La Via di Rhiannon” a Glastonbury e in Italia\, facilita anche un percorso di un anno per gli uomini la “Fratellanza di Rhiannon”\, di cui sono attivi anche dei cerchi in Italia. È la direttrice e creatrice della Moon Butterflies-CIC\, un viaggio di conoscenza delle Tredici Lune all’interno dei Misteri della Fanciulla\, per le ragazze. Katinka è madre di tre figli\, doula\, danzatrice\, counselor; in Inghilterra. Lavora sul corpo attraverso percorsi di sacra intimità\, fertilità\, conoscenza del corpo\, perdono\, guarigione\, celebrazioni\, porta la sua visione della vita a luoghi e persone nel mondo. Organizzatrice del Festival annuale Glastonbury Goddess Conference (www.goddessconference.com) e fondatrice del Temple of Avalon (www.templeofavalon.co.uk). \nIl suo sito: https://pathoflovemysteryschool.com/ \n_____________________________________________________________________________________
URL:https://tempiodelladea.org/evento/dame-del-lago-custodi-del-graal-e-delle-acque-sacre-percorso-con-katinka-soetens/
LOCATION:Associazione di Promozione Sociale e Centro Ricerche per la Partnership Il Tempio della Dea\, C.so Vinzaglio 12 bis Torino
ATTACH;FMTTYPE=image/jpeg:https://tempiodelladea.org/nuovosito/wp-content/uploads/2025/02/percorso-katinka-graal.jpg
END:VEVENT
BEGIN:VEVENT
DTSTART;TZID=Europe/Rome:20250928T100000
DTEND;TZID=Europe/Rome:20250928T130000
DTSTAMP:20260423T195647
CREATED:20240212T175104Z
LAST-MODIFIED:20250509T192148Z
UID:7232-1759053600-1759064400@tempiodelladea.org
SUMMARY:Percorso Ruota dell'Anno: Lezione\, Celebrazione\, Condivisioni della Stagionalità di Mabon Equinozio d'Autunno
DESCRIPTION:Lezione\, Celebrazione\, Condivisioni della Stagionalità di Mabon Equinozio d’Autunno – In Presenza e Online dalle 10.00 alle 13.00.\n\n\n\n\n\nVivere la Ruota dell’Anno di Avalon e di Diana ©\nTutti i contenuti sono soggetti a copyright ©\nPercorso annuale/biennale/triennale\, disponibile in forma individuale\, residenziale o online.\nQuesto corso nasce con l’intento di introdurre la conoscenza culturale ed esperire la pratica spirituale relative alla Ruota delle Dee di Britannia o Ruota dell’Anno di Avalon e a quella protoitalica della Dea Diana. Si può frequentare la 1°\, 2°\, 3° annualità\, anche non consecutivamente. In questo Percorso\, solo alla fine del terzo anno di formazione ci si dedicherà\, se lo si desidera\, come Sacerdotessa o Uomo Sacro della Dea. \nAlcuni argomenti e pratiche connesse del corso sono: \n\nConoscere e onorare la Dea nelle sue molteplici manifestazioni;\nConoscere la Ruota dell’Anno\nConoscere le Celebrazioni Stagionali;\nImparare a creare Celebrazioni dedicate alla Dea e alla vita delle Donne e degli Uomini che camminano il suo Sentiero;\nIl significato del termine “Sacerdotessa” e “Uomo Sacro della Dea”;\nEsercitazioni e meditazioni.\nEntreremo in contatto con le Dee connesse alla Ruota di Britannia e alla Ruota di Diana e con le Dee italiche ed i loro aspetti\, creeremo celebrazioni ed apprenderemo strumenti del sacro.\n\nSi lavorerà inoltre con la Ruota di Diana e sulla Ruota delle Dee Italiche e Mediterranee\, progetto nato per onorare le Dee della nostra terra. Le persone partecipanti saranno invitate a collaborare nella ricerca di informazioni e documentazione relativa alle divinità femminili protoitaliche\, conosciute a livello regionale e nazionale\, nelle diverse parti della penisola con l’obiettivo di ricostruire e attualizzare le pratiche del sacro tipicamente italiche. \nIl percorso è aperto alle Donne e agli Uomini che sono interessati a riscoprire il sacro femminile che è in tutte-i noi\, a riportare equilibrio tra il maschile e il femminile\, a riscrivere il significato del sacro femminile e maschile in linea con i principi della spiritualità della Dea oggi. \n\nCome si sviluppa Il Percorso Vivere la Ruota dell’Anno di Avalon e di Diana © con Sarah Perini\n\n\n1°Anno – Prima Ruota\n2°Anno – Seconda Ruota\n3°Anno – Terza Ruota\n\nNella Prima Ruota si affronteranno i concetti basilari della conoscenza della Ruota di Avalon e della Ruota Italica di Diana\, il significato degli archetipi della Ruota e delle Celebrazioni Stagionali e si imparerà a potenziare la presenza del Sacro Femminile nella propria vita e a vivere cerimonie e condivisioni in Cerchio. \nNella Seconda Ruota si approfondirà la conoscenza degli strumenti pratici\, di connessione\, di meditazione e divinatori\, il senso del percorso spirituale nella propria vita\, il significato della costruzione di una comunità e si imparerà a costruire e partecipare praticamente a cerimonie. \nNella Terza Ruota si approfondiranno le tematiche del sacro femminile tramite conferenze esplicative e lezioni teoriche e pratiche; oltre che attraverso la lettura integrale dei testi principali del percorso con un analisi mensile di confronto; ogni partecipante imparerà inoltre a condurre singolarmente una cerimonia stagionale e un workshop. Si approfondirà la conoscenza della Ruota delle Dee italiche e mediterranee e di Diana\, per questo obiettivo ogni partecipante svilupperà individualmente o in piccoli gruppi una Ruota completa di una specifica tra le Dee italiche a propria scelta. \nI corsi si svolgono dal mese novembre di ogni anno fino al mese di ottobre successivo\, è previsto un colloquio conoscitivo prima di accedere al percorso\, su richiesta si può richiedere di accedere al percorso anche in altri momenti dell’anno previa valutazione. \n\nCome si sviluppa il PERCORSO ON-LINE\nSegue lo stesso programma formativo del percorso residenziale\, ma è un percorso individuale che dà la possibilità di partecipare anche ad un gruppo di studio e pratica online su Zoom (oltre che alle lezioni individuali online) composto da tutte le partecipanti delle ruote online.\nInoltre\, apre alla partecipazione alle Celebrazioni al Tempio della Dea di Torino e suggerisce vivamente la partecipazione a due dei seminari propedeutici annuali proposti alla pagina Eventi del nostro sito. \nPer le Ruote Online il Programma\, il Calendario e gli orari si strutturano individualmente\, contattare la facilitatrice Sarah Perini  a: info@tempiodelladea.org \nPer chi è iscritta/o al percorso residenziale a Torino è richiesta la presenza agli incontri indicati in quanto il corso si sviluppa secondo un andamento progressivo\, perdere una lezione significa perdere una parte integrante dell’insieme e la presenza è propedeutica anche alla creazione di un gruppo di lavoro e di un Cerchio di Pratica. \nSia per chi partecipa al percorso residenziale che online è altamente consigliata la partecipazione ai seminari correlati. \n\nTesti di studio e materiali\n\nMarija Gimbutas\, Il linguaggio della Dea\, Venexia Edizioni.\nRiane Eisler\, Il calice e la spada\, Forum Editrice.\nRiane Eisler\, Il piacere è sacro\, Forum Editrice.\nSarah Perini\, Simboli e Riti delle Donne Celtiche\, Ed. Psiche 2.\nKathy Jones\, Camminando sulla Ruota della Dea Ana\, Le Ruote dell’Anno nelle antiche tradizioni\, Ester Ed.\nKathy Jones\, La Dea nell’Antica Britannia. Miti\, leggende\, siti sacri\, Ed.Psiche 2\nKathy Jones\, Sacerdotessa di Avalon\, Sacerdotessa della Dea\, Ester Ed.\n9 Dispense di Studio con Esercitazioni\n9 meditazioni guidate in file audio\n8 Cerchi di Celebrazioni Stagionali (composte da chiamata della Ruota\, introduzione al significato della stagione-archetipo-elemento\, meditazione\, cerimonia\, condivisione di gruppo)\n8 Cerchi di Lezione Teorica e Condivisione Esperienze\nIncontri di confronto e approfondimento sui testi di studio indicati in bibliografia da leggere durante l’anno.\n1 Giornata per le Cerimonie di Dedicazione.\n\n\nIl corso prevede:\n\nEsercitazioni scritte e pratiche e confronti orali mensili di gruppo e/o individuali. Le esercitazioni saranno inviate insieme al materiale di studio e sarà richiesto il completamento delle stesse prima di ogni incontro o sessione online; le esercitazioni saranno visionate dalla facilitatrice e discusse.\nApprendimento e pratica di strumenti durante le giornate di workshop.\n\nIl Percorso non rilascia nessun certificato\, ma semplicemente un attestato di partecipazione. \nNessuno di questi percorsi o sessioni sostituisce in nessun modo percorsi psicanalitici o medici. Ci riserviamo di inviare direttamente a chi di competenza per questi tipi di servizi e vi chiediamo di rivolgervi esclusivamente a psicologhe\, psicologi\, analisti e medici se avete bisogno di indicazioni e diagnosi in tali campi. Grazie. \n\nContributi di Partecipazione:\nIl contributo del percorso annuale è di: 800\,00€\nIl Corso è destinato alle socie/i dell’Associazione Il Tempio della Dea è richiesto il tesseramento annuale di 15\,00€ all’iscrizione. \nIl contributo si può versare nella seguente modalità: \n\nRateizzazione in 8 rate da novembre a giugno\nè possibile richiedere agevolazioni e tariffe speciali\n\nNel contributo totale è compresa:\nTutto ciò che è indicato sopra\, la partecipazione ai Cerchi di Celebrazione\, ai Cerchi di Workshop e ai Cerchi di Condivisione e alla giornata conclusiva; le dispense\, le meditazioni\, le schede di esercitazione e la loro verifica. L’utilizzo degli spazi associativi per il residenziale. \nIl versamento dei contributi può avvenire tramite bonifico bancario sul c/c intestato a:\nAssociazione di Promozione Sociale e Centro Ricerche per la Partnership Il Tempio della Dea\nBanca Prossima – Intesa San Paolo\nIBAN: IT91 A030 6909 6061 0000 0136 346\nCausale: Proprio Cognome + Donazione Percorso Ruota dell’Anno
URL:https://tempiodelladea.org/evento/percorso-ruota-dellanno-lezione-celebrazione-condivisioni-della-stagionalita-di-mabon-equinozio-dautunno/
LOCATION:Associazione di Promozione Sociale e Centro Ricerche per la Partnership Il Tempio della Dea\, C.so Vinzaglio 12 bis Torino
ATTACH;FMTTYPE=image/jpeg:https://tempiodelladea.org/nuovosito/wp-content/uploads/2021/12/wendi-andrew-ruota-diana.jpg
END:VEVENT
END:VCALENDAR