BEGIN:VCALENDAR
VERSION:2.0
PRODID:-//Il Tempio della Dea - ECPv6.15.18//NONSGML v1.0//EN
CALSCALE:GREGORIAN
METHOD:PUBLISH
X-WR-CALNAME:Il Tempio della Dea
X-ORIGINAL-URL:https://tempiodelladea.org
X-WR-CALDESC:Eventi per Il Tempio della Dea
REFRESH-INTERVAL;VALUE=DURATION:PT1H
X-Robots-Tag:noindex
X-PUBLISHED-TTL:PT1H
BEGIN:VTIMEZONE
TZID:Europe/Rome
BEGIN:DAYLIGHT
TZOFFSETFROM:+0100
TZOFFSETTO:+0200
TZNAME:CEST
DTSTART:20240331T010000
END:DAYLIGHT
BEGIN:STANDARD
TZOFFSETFROM:+0200
TZOFFSETTO:+0100
TZNAME:CET
DTSTART:20241027T010000
END:STANDARD
BEGIN:DAYLIGHT
TZOFFSETFROM:+0100
TZOFFSETTO:+0200
TZNAME:CEST
DTSTART:20250330T010000
END:DAYLIGHT
BEGIN:STANDARD
TZOFFSETFROM:+0200
TZOFFSETTO:+0100
TZNAME:CET
DTSTART:20251026T010000
END:STANDARD
BEGIN:DAYLIGHT
TZOFFSETFROM:+0100
TZOFFSETTO:+0200
TZNAME:CEST
DTSTART:20260329T010000
END:DAYLIGHT
BEGIN:STANDARD
TZOFFSETFROM:+0200
TZOFFSETTO:+0100
TZNAME:CET
DTSTART:20261025T010000
END:STANDARD
END:VTIMEZONE
BEGIN:VEVENT
DTSTART;TZID=Europe/Rome:20250606T180000
DTEND;TZID=Europe/Rome:20250606T200000
DTSTAMP:20260425T134139
CREATED:20250424T144438Z
LAST-MODIFIED:20250429T131209Z
UID:8487-1749232800-1749240000@tempiodelladea.org
SUMMARY:Conferenza Online: La Presenza della Dea Una e Multiforme in Valle di Susa con l'Archeologa Roberta Crisarà
DESCRIPTION:VENERDI 6 GIUGNO\, ORE 18.00/20.00 ONLINE SU ZOOM:\nConferenza dell’Archeologa e principale esperta della preistoria in Valle di Susa: Roberta Crisarà \nTema della Conferenza: La Presenza della Dea Una e Multiforme in Val di Susa. \nLa valle di Susa è ricca di evidenze pre-protostoriche ovunque celate da secoli di sovrapposizioni culturali e religiose\, ma in tutta la Valle di Susa risuona il nome della Dea\, in ogni luogo la sua presenza\, nonostante secoli di oblio\, si palesa attraverso resti di cultura materiale o nell’eco di toponimi dalle radici molto antiche. Le evidenze archeologiche e lo studio dei nomi ci permette di riallacciare l’antico filo delle tessitrici\, sacerdotesse della Dea\, guide e regine che segnava percorsi e indicavano la giusta strada. Andremo alla scoperta di alcuni centri focali della Valle di Susa per riconnetterai con le protettrici e i protettori di questi luoghi\, cercando le tracce da loro lasciate a partire dal Neolitico (metà del V millennio a.c.) fino al Medioevo. \nRoberta Dhara Crisarà: Archeologa\, con titolo di Dottorato di Ricerca in Archeologia Preistorica conseguito all’Università La Sapienza di Roma\, organizza laboratori didattici per scuole dell’infanzia\, scuole di primo e secondo grado e Percorsi Archeologici sulle tracce degli antichi abitanti della Bassa Valle di Susa.\n(Contatti: http://dhararcheologia.it/ – info@dhararcheologia.it) \n  \n__________________________________________________________ \n INFORMAZIONI E ISCRIZIONI:  \n\nE’ necessario iscriversi scrivendo a: info@tempiodelladea.org\nDonazione di partecipazione: 10€\nda versare sul c/c APS Il Tempio della Dea\, IBAN: IT91 A030 6909 6061 0000 0136 346\n\nLink zoom: https://us06web.zoom.us/j/87590793662\nNon sono consentite registrazioni audio o video\, né condivisione o diffusione del materiale didattico\, in quanto il tutto è parte di una prossima pubblicazione in uscita.\n\n__________________________________________________________________________________ \n  \n 
URL:https://tempiodelladea.org/evento/conferenza-online-la-presenza-della-dea-una-e-multiforme-in-valle-di-susa-con-larcheologa-roberta-crisara-3/
ATTACH;FMTTYPE=image/jpeg:https://tempiodelladea.org/nuovosito/wp-content/uploads/2021/12/workshop-val-di-susa.jpg
END:VEVENT
BEGIN:VEVENT
DTSTART;TZID=Europe/Rome:20250621T100000
DTEND;TZID=Europe/Rome:20250621T170000
DTSTAMP:20260425T134139
CREATED:20240326T165143Z
LAST-MODIFIED:20240703T093858Z
UID:7364-1750500000-1750525200@tempiodelladea.org
SUMMARY:Sollevare i Veli di Maddalena\, con Gessica Occhionero.
DESCRIPTION:Sollevare i Veli di Maddalena\, con Gessica Occhionero.\nPercorso Esperienziale e Didattico in 8 incontri online e in presenza. \nTutti i contenuti sono soggetti a copyright © \nIn questo spazio\, dedicato alla figura di Maria Maddalena\, andremo a sollevare tutti quei veli che hanno oscurato la sua immagine di donna e la sua reale identità. Myriam di Magdala era una donna libera e piena di conoscenza. Un modello scomodo per il patriarcato che\, occultando il vero ruolo di Maria Maddalena\, e tutto ciò che lei rappresentava\, ha potuto soggiogare e manipolare intere generazioni di donne. \nDopo aver accennato al contesto storico e culturale in cui visse la Maddalena\, parleremo delle sue origini celate\, e dell’umanità del suo operato\, appositamente manipolati\, capiremo dove sta l’errata interpretazione della sua figura di donna. Emergerà la sacralità del suo ruolo. Riappropriandoci di un’altra verità su Maria Maddalena riscopriamo\, e riaccettiamo\, il nostro femminile\, il Femminino Sacro che c’è in ogni donna.\nEsploreremo esercitazioni per vivere l’energia d’Amore che portava Maria Maddalena e meditazioni in cui lavoreremo con l’energia del Calice e l’energia della Rosa\, due simboli che le appartengono\, e che richiameranno la sacralità femminile.\nRicontattando attraverso l’ascolto e l’esperienza il nucleo animico di questa grande anima scopriremo i luoghi di guarigione e di trasformazione dentro e fuori di noi. \n\nArgomenti:  \nil programma completo e le dispense verranno consegnate alle iscritte \n● La figura storica di Maria Maddalena ed il contesto culturale in cui visse. \n● Maria Maddalena Guaritrice Essena: parlare all’Anima. \n● Il riequilibrio attraverso l’uso degli oli essenziali. \n● Il riequilibrio attraverso l’uso della voce e dei suoni. \n● Maria Maddalena come Donna Sacra. \n● Danza Sacra: onorare la Dea ed il nostro corpo quale Tempio. \n● Il vero messaggio di Maria Maddalena: una Nuova Visione dell’Amore. \n● Il vero messaggio di Maria Maddalena: la Coppia Sacra per condividersi ed evolvere insieme. \n● Esercizi\, meditazioni ed ascolto energetico. \n● Dedicarsi e comprendere il senso del Camminare la Via di Maria Maddalena. \n\n\nGessica Occhionero: Laureata in Lingue e Letterature Straniere all’Università di Torino; Diplomata in Naturopatia\, consegue il titolo di studio presso l’Università Popolare A.E.ME.TRA. di Torino. Dedica maggior approfondimento al campo dell’alimentazione\, e a quello dei disturbi fisiologici legati all’apparato genitale della donna. La consapevolezza che dietro ad ogni squilibrio fisico ci sia una causa energetica la porta\, nel 2015\, a completare un percorso in Terapia Energetica Avanzata\, per lavorare sui blocchi della persona. Da qualche anno il suo cammino nel mondo olistico si è rivolto allo studio degli effetti che il colore\, e il suono della voce umana\, hanno sul riequilibrio psico-fisico di ognuno di noi\, per integrarli nel suo lavoro. Ha partecipato a più seminari sull’uso della Voce Quantica con vari insegnanti\, tra cui il cantante classico\, direttore di coro e compositore Anders Holte. Moon Mother nel percorso di Miranda Gray\, la via del Sacro Divino Femminile si apre\, in lei\, attraverso la forte connessione con la figura di Maria Maddalena. Si forma ulteriormente nel Percorso La Via di Rhiannon con Katinka Soetens. \n\n \n\nDATE EDIZIONE 2024/2025 PRIMO ANNO:\nIscrizioni aperte scrivendo a info@tempiodelladea.org \n\nSABATO 5 OTTOBRE 2024 DALLE 10.00 ALLE 17.00\nSABATO 9 NOVEMBRE 2024 DALLE 10.00 ALLE 17.00\nSABATO 14 DICEMBRE 2024 DALLE 10.00 ALLE 17.00\nSABATO 1 FEBBRAIO 2025 DALLE 10.00 ALLE 17.00\nSABATO 15 MARZO 2025 DALLE 10.00 ALLE 17.00\nSABATO 3 MAGGIO 2025 DALLE 10.00 ALLE 17.00\nSABATO 21 GIUGNO 2025 DALLE 10.00 ALLE 17.00\nDOMENICA 20 LUGLIO 2025 DALLE 10.00 ALLE 17.00 Celebrazione finale collettiva\n\n\nContributi di Partecipazione:\nIl contributo del percorso annuale è di: 850\,00€\nIl Corso è destinato alle socie/i dell’Associazione Il Tempio della Dea è richiesto il tesseramento annuale di 15\,00€ all’iscrizione. \nIl contributo si può versare nella seguente modalità: \n\nRateizzazione in 8 donazioni da ottobre a giugno\n\nNel contributo totale è compresa:\nLa partecipazione ai Cerchi di Workshop\, Meditazione e Condivisione e alla giornata conclusiva; le dispense\, le esercitazioni\, i materiali didattici. L’utilizzo degli spazi associativi per il residenziale. \nIl versamento dei contributi può avvenire tramite bonifico bancario sul c/c intestato a:\nAssociazione di Promozione Sociale e Centro Ricerche per la Partnership Il Tempio della Dea\nBanca Prossima – Intesa San Paolo\nIBAN: IT91 A030 6909 6061 0000 0136 346\nCausale: Proprio Cognome + Donazione Percorso Maddalena \nPER ISCRIZIONI SCRIVERE A: info@tempiodelladea.org
URL:https://tempiodelladea.org/evento/sollevare-i-veli-di-maddalena-1-anno-con-gessica-occhionero-7/
ATTACH;FMTTYPE=image/jpeg:https://tempiodelladea.org/nuovosito/wp-content/uploads/2022/07/maria-maddalena-webinario.jpg
END:VEVENT
BEGIN:VEVENT
DTSTART;TZID=Europe/Rome:20250622T100000
DTEND;TZID=Europe/Rome:20250622T130000
DTSTAMP:20260425T134139
CREATED:20240212T174208Z
LAST-MODIFIED:20240326T173137Z
UID:7228-1750586400-1750597200@tempiodelladea.org
SUMMARY:Percorso Ruota dell'Anno: Lezione\, Celebrazione\, Condivisioni della Stagionalità di Litha
DESCRIPTION:Lezione\, Celebrazione\, Condivisioni della Stagionalità di Litha – In Presenza e Online dalle 10.00 alle 13.00.\n\n\n\n\n\nVivere la Ruota dell’Anno di Avalon e di Diana ©\nTutti i contenuti sono soggetti a copyright ©\nPercorso annuale/biennale/triennale\, disponibile in forma individuale\, residenziale o online.\nQuesto corso nasce con l’intento di introdurre la conoscenza culturale ed esperire la pratica spirituale relative alla Ruota delle Dee di Britannia o Ruota dell’Anno di Avalon e a quella protoitalica della Dea Diana. Si può frequentare la 1°\, 2°\, 3° annualità\, anche non consecutivamente. In questo Percorso\, solo alla fine del terzo anno di formazione ci si dedicherà\, se lo si desidera\, come Sacerdotessa o Uomo Sacro della Dea. \nAlcuni argomenti e pratiche connesse del corso sono: \n\nConoscere e onorare la Dea nelle sue molteplici manifestazioni;\nConoscere la Ruota dell’Anno\nConoscere le Celebrazioni Stagionali;\nImparare a creare Celebrazioni dedicate alla Dea e alla vita delle Donne e degli Uomini che camminano il suo Sentiero;\nIl significato del termine “Sacerdotessa” e “Uomo Sacro della Dea”;\nEsercitazioni e meditazioni.\nEntreremo in contatto con le Dee connesse alla Ruota di Britannia e alla Ruota di Diana e con le Dee italiche ed i loro aspetti\, creeremo celebrazioni ed apprenderemo strumenti del sacro.\n\nSi lavorerà inoltre con la Ruota di Diana e sulla Ruota delle Dee Italiche e Mediterranee\, progetto nato per onorare le Dee della nostra terra. Le persone partecipanti saranno invitate a collaborare nella ricerca di informazioni e documentazione relativa alle divinità femminili protoitaliche\, conosciute a livello regionale e nazionale\, nelle diverse parti della penisola con l’obiettivo di ricostruire e attualizzare le pratiche del sacro tipicamente italiche. \nIl percorso è aperto alle Donne e agli Uomini che sono interessati a riscoprire il sacro femminile che è in tutte-i noi\, a riportare equilibrio tra il maschile e il femminile\, a riscrivere il significato del sacro femminile e maschile in linea con i principi della spiritualità della Dea oggi. \n\nCome si sviluppa Il Percorso Vivere la Ruota dell’Anno di Avalon e di Diana © con Sarah Perini\n\n\n1°Anno – Prima Ruota\n2°Anno – Seconda Ruota\n3°Anno – Terza Ruota\n\nNella Prima Ruota si affronteranno i concetti basilari della conoscenza della Ruota di Avalon e della Ruota Italica di Diana\, il significato degli archetipi della Ruota e delle Celebrazioni Stagionali e si imparerà a potenziare la presenza del Sacro Femminile nella propria vita e a vivere cerimonie e condivisioni in Cerchio. \nNella Seconda Ruota si approfondirà la conoscenza degli strumenti pratici\, di connessione\, di meditazione e divinatori\, il senso del percorso spirituale nella propria vita\, il significato della costruzione di una comunità e si imparerà a costruire e partecipare praticamente a cerimonie. \nNella Terza Ruota si approfondiranno le tematiche del sacro femminile tramite conferenze esplicative e lezioni teoriche e pratiche; oltre che attraverso la lettura integrale dei testi principali del percorso con un analisi mensile di confronto; ogni partecipante imparerà inoltre a condurre singolarmente una cerimonia stagionale e un workshop. Si approfondirà la conoscenza della Ruota delle Dee italiche e mediterranee e di Diana\, per questo obiettivo ogni partecipante svilupperà individualmente o in piccoli gruppi una Ruota completa di una specifica tra le Dee italiche a propria scelta. \nI corsi si svolgono dal mese novembre di ogni anno fino al mese di ottobre successivo\, è previsto un colloquio conoscitivo prima di accedere al percorso\, su richiesta si può richiedere di accedere al percorso anche in altri momenti dell’anno previa valutazione. \n\nCome si sviluppa il PERCORSO ON-LINE\nSegue lo stesso programma formativo del percorso residenziale\, ma è un percorso individuale che dà la possibilità di partecipare anche ad un gruppo di studio e pratica online su Zoom (oltre che alle lezioni individuali online) composto da tutte le partecipanti delle ruote online.\nInoltre\, apre alla partecipazione alle Celebrazioni al Tempio della Dea di Torino e suggerisce vivamente la partecipazione a due dei seminari propedeutici annuali proposti alla pagina Eventi del nostro sito. \nPer le Ruote Online il Programma\, il Calendario e gli orari si strutturano individualmente\, contattare la facilitatrice Sarah Perini  a: info@tempiodelladea.org \nPer chi è iscritta/o al percorso residenziale a Torino è richiesta la presenza agli incontri indicati in quanto il corso si sviluppa secondo un andamento progressivo\, perdere una lezione significa perdere una parte integrante dell’insieme e la presenza è propedeutica anche alla creazione di un gruppo di lavoro e di un Cerchio di Pratica. \nSia per chi partecipa al percorso residenziale che online è altamente consigliata la partecipazione ai seminari correlati. \n\nTesti di studio e materiali\n\nMarija Gimbutas\, Il linguaggio della Dea\, Venexia Edizioni.\nRiane Eisler\, Il calice e la spada\, Forum Editrice.\nRiane Eisler\, Il piacere è sacro\, Forum Editrice.\nSarah Perini\, Simboli e Riti delle Donne Celtiche\, Ed. Psiche 2.\nKathy Jones\, Camminando sulla Ruota della Dea Ana\, Le Ruote dell’Anno nelle antiche tradizioni\, Ester Ed.\nKathy Jones\, La Dea nell’Antica Britannia. Miti\, leggende\, siti sacri\, Ed.Psiche 2\nKathy Jones\, Sacerdotessa di Avalon\, Sacerdotessa della Dea\, Ester Ed.\n9 Dispense di Studio con Esercitazioni\n9 meditazioni guidate in file audio\n8 Cerchi di Celebrazioni Stagionali (composte da chiamata della Ruota\, introduzione al significato della stagione-archetipo-elemento\, meditazione\, cerimonia\, condivisione di gruppo)\n8 Cerchi di Lezione Teorica e Condivisione Esperienze\nIncontri di confronto e approfondimento sui testi di studio indicati in bibliografia da leggere durante l’anno.\n1 Giornata per le Cerimonie di Dedicazione.\n\n\nIl corso prevede:\n\nEsercitazioni scritte e pratiche e confronti orali mensili di gruppo e/o individuali. Le esercitazioni saranno inviate insieme al materiale di studio e sarà richiesto il completamento delle stesse prima di ogni incontro o sessione online; le esercitazioni saranno visionate dalla facilitatrice e discusse.\nApprendimento e pratica di strumenti durante le giornate di workshop.\n\nIl Percorso non rilascia nessun certificato\, ma semplicemente un attestato di partecipazione. \nNessuno di questi percorsi o sessioni sostituisce in nessun modo percorsi psicanalitici o medici. Ci riserviamo di inviare direttamente a chi di competenza per questi tipi di servizi e vi chiediamo di rivolgervi esclusivamente a psicologhe\, psicologi\, analisti e medici se avete bisogno di indicazioni e diagnosi in tali campi. Grazie. \n\nContributi di Partecipazione:\nIl contributo del percorso annuale è di: 800\,00€\nIl Corso è destinato alle socie/i dell’Associazione Il Tempio della Dea è richiesto il tesseramento annuale di 15\,00€ all’iscrizione. \nIl contributo si può versare nella seguente modalità: \n\nRateizzazione in 8 rate da novembre a giugno\nè possibile richiedere agevolazioni e tariffe speciali\n\nNel contributo totale è compresa:\nTutto ciò che è indicato sopra\, la partecipazione ai Cerchi di Celebrazione\, ai Cerchi di Workshop e ai Cerchi di Condivisione e alla giornata conclusiva; le dispense\, le meditazioni\, le schede di esercitazione e la loro verifica. L’utilizzo degli spazi associativi per il residenziale. \nIl versamento dei contributi può avvenire tramite bonifico bancario sul c/c intestato a:\nAssociazione di Promozione Sociale e Centro Ricerche per la Partnership Il Tempio della Dea\nBanca Prossima – Intesa San Paolo\nIBAN: IT91 A030 6909 6061 0000 0136 346\nCausale: Proprio Cognome + Donazione Percorso Ruota dell’Anno
URL:https://tempiodelladea.org/evento/percorso-ruota-dellanno-lezione-celebrazione-condivisioni-della-stagionalita-di-litha/
LOCATION:Associazione di Promozione Sociale e Centro Ricerche per la Partnership Il Tempio della Dea\, C.so Vinzaglio 12 bis Torino
ATTACH;FMTTYPE=image/jpeg:https://tempiodelladea.org/nuovosito/wp-content/uploads/2021/12/wendi-andrew-ruota-diana.jpg
END:VEVENT
END:VCALENDAR