BEGIN:VCALENDAR
VERSION:2.0
PRODID:-//Il Tempio della Dea - ECPv6.15.18//NONSGML v1.0//EN
CALSCALE:GREGORIAN
METHOD:PUBLISH
X-WR-CALNAME:Il Tempio della Dea
X-ORIGINAL-URL:https://tempiodelladea.org
X-WR-CALDESC:Eventi per Il Tempio della Dea
REFRESH-INTERVAL;VALUE=DURATION:PT1H
X-Robots-Tag:noindex
X-PUBLISHED-TTL:PT1H
BEGIN:VTIMEZONE
TZID:Europe/Rome
BEGIN:DAYLIGHT
TZOFFSETFROM:+0100
TZOFFSETTO:+0200
TZNAME:CEST
DTSTART:20260329T010000
END:DAYLIGHT
BEGIN:STANDARD
TZOFFSETFROM:+0200
TZOFFSETTO:+0100
TZNAME:CET
DTSTART:20261025T010000
END:STANDARD
BEGIN:DAYLIGHT
TZOFFSETFROM:+0100
TZOFFSETTO:+0200
TZNAME:CEST
DTSTART:20270328T010000
END:DAYLIGHT
BEGIN:STANDARD
TZOFFSETFROM:+0200
TZOFFSETTO:+0100
TZNAME:CET
DTSTART:20271031T010000
END:STANDARD
BEGIN:DAYLIGHT
TZOFFSETFROM:+0100
TZOFFSETTO:+0200
TZNAME:CEST
DTSTART:20280326T010000
END:DAYLIGHT
BEGIN:STANDARD
TZOFFSETFROM:+0200
TZOFFSETTO:+0100
TZNAME:CET
DTSTART:20281029T010000
END:STANDARD
END:VTIMEZONE
BEGIN:VEVENT
DTSTART;TZID=Europe/Rome:20270411T100000
DTEND;TZID=Europe/Rome:20270412T130000
DTSTAMP:20260420T025357
CREATED:20250715T083152Z
LAST-MODIFIED:20260121T184354Z
UID:8585-1807437600-1807534800@tempiodelladea.org
SUMMARY:Sollevare i Veli di Maddalena\, Percorso Esperienziale e Didattico con Gessica Occhionero ©
DESCRIPTION:Sollevare i Veli di Maddalena\, Percorso Esperienziale e Didattico con Gessica Occhionero ©\nPercorso in 8 incontri online e in presenza \nTutti i contenuti sono soggetti a copyright © \nIn questo spazio\, dedicato alla figura di Maria Maddalena\, andremo a sollevare tutti quei veli che hanno oscurato la sua immagine di donna e la sua reale identità. Myriam di Magdala era una donna libera e piena di conoscenza. Un modello scomodo per il patriarcato che\, occultando il vero ruolo di Maria Maddalena\, e tutto ciò che lei rappresentava\, ha potuto soggiogare e manipolare intere generazioni di donne. \nDopo aver accennato al contesto storico e culturale in cui visse la Maddalena\, parleremo delle sue origini celate\, e dell’umanità del suo operato\, appositamente manipolati\, capiremo dove sta l’errata interpretazione della sua figura di donna. Emergerà la sacralità del suo ruolo. Riappropriandoci di un’altra verità su Maria Maddalena riscopriamo\, e riaccettiamo\, il nostro femminile\, il Femminino Sacro che c’è in ogni donna.\nEsploreremo esercitazioni per vivere l’energia d’Amore che portava Maria Maddalena e meditazioni in cui lavoreremo con l’energia del Calice e l’energia della Rosa\, due simboli che le appartengono\, e che richiameranno la sacralità femminile.\nRicontattando attraverso l’ascolto e l’esperienza il nucleo animico di questa grande anima scopriremo i luoghi di guarigione e di trasformazione dentro e fuori di noi. \n\nArgomenti:  \nil programma completo e le dispense verranno consegnate alle iscritte \n● La figura storica di Maria Maddalena ed il contesto culturale in cui visse. \n● Maria Maddalena Guaritrice Essena: parlare all’Anima. \n● Il riequilibrio attraverso l’uso degli oli essenziali. \n● Il riequilibrio attraverso l’uso della voce e dei suoni. \n● Maria Maddalena come Donna Sacra. \n● Danza Sacra: onorare la Dea ed il nostro corpo quale Tempio. \n● Il vero messaggio di Maria Maddalena: una Nuova Visione dell’Amore. \n● Il vero messaggio di Maria Maddalena: la Coppia Sacra per condividersi ed evolvere insieme. \n● Esercizi\, meditazioni ed ascolto energetico. \n● Dedicarsi e comprendere il senso del Camminare la Via di Maria Maddalena. \n\n\nGessica Occhionero: Laureata in Lingue e Letterature Straniere all’Università di Torino; Diplomata in Naturopatia\, consegue il titolo di studio presso l’Università Popolare A.E.ME.TRA. di Torino. Dedica maggior approfondimento al campo dell’alimentazione\, e a quello dei disturbi fisiologici legati all’apparato genitale della donna. La consapevolezza che dietro ad ogni squilibrio fisico ci sia una causa energetica la porta\, nel 2015\, a completare un percorso in Terapia Energetica Avanzata\, per lavorare sui blocchi della persona. Da qualche anno il suo cammino nel mondo olistico si è rivolto allo studio degli effetti che il colore\, e il suono della voce umana\, hanno sul riequilibrio psico-fisico di ognuno di noi\, per integrarli nel suo lavoro. Ha partecipato a più seminari sull’uso della Voce Quantica con vari insegnanti\, tra cui il cantante classico\, direttore di coro e compositore Anders Holte. Moon Mother nel percorso di Miranda Gray\, la via del Sacro Divino Femminile si apre\, in lei\, attraverso la forte connessione con la figura di Maria Maddalena. Si forma ulteriormente nel Percorso La Via di Rhiannon con Katinka Soetens. \n\n \n\nDATE EDIZIONE 2026/2027\nIscrizioni aperte scrivendo a info@tempiodelladea.org \n\nSABATO 20 GIUGNO 2026 DALLE 10.00 ALLE 17.00 Seminario sulla Dea Hathor\nDOMENICA 4 OTTOBRE 2026\nSABATO 28 NOVEMBRE 2026\nSABATO 30 GENNAIO 2027\nSABATO 27 FEBBRAIO 2027\nSABATO 27 MARZO 2027\nDOMENICA 11 APRILE 2027\nSABATO 29 MAGGIO 2027\n\n\nContributi di Partecipazione:\nIl contributo del percorso annuale è di: 850\,00€\nIl Corso è destinato alle socie/i dell’Associazione Il Tempio della Dea è richiesto il tesseramento annuale di 15\,00€ all’iscrizione. Le donazioni si possono versare nella seguente modalità: 8 donazioni da ottobre a giugno. \nNel contributo totale è compresa:\nLa partecipazione ai Cerchi di Workshop\, Meditazione e Condivisione e alla giornata conclusiva; le dispense\, le esercitazioni\, i materiali didattici. L’utilizzo degli spazi associativi per il residenziale. \nIl versamento può avvenire tramite bonifico bancario sul c/c intestato a:\nAssociazione di Promozione Sociale e Centro Ricerche per la Partnership Il Tempio della Dea\nBanca Prossima – Intesa San Paolo\nIBAN: IT91 A030 6909 6061 0000 0136 346\nCausale: Proprio Cognome + Donazione Percorso Maddalena \nPER ISCRIZIONI SCRIVERE A: info@tempiodelladea.org
URL:https://tempiodelladea.org/evento/8585/
LOCATION:Graglia (Biella)
ATTACH;FMTTYPE=image/jpeg:https://tempiodelladea.org/nuovosito/wp-content/uploads/2023/07/Maddalena.jpg
END:VEVENT
BEGIN:VEVENT
DTSTART;TZID=Europe/Rome:20270508T100000
DTEND;TZID=Europe/Rome:20270509T180000
DTSTAMP:20260420T025357
CREATED:20241119T154310Z
LAST-MODIFIED:20241119T154310Z
UID:8048-1809770400-1809885600@tempiodelladea.org
SUMMARY:Percorso base La Via di Rhiannon con Katinka Soetens
DESCRIPTION:RHIANNON TRAINING PERCORSO BASE\nPercorso di Formazione in dieci weekend condotto da Katinka Soetens\,\nsolo in presenza\, condotto in inglese con traduzione consecutiva in diretta in italiano.\nKatinka Soetens ci condurrà in un viaggio di 10 weekend\, aperto solo alle donne\, per comprendere a fondo la Sacralità del Corpo Femminile e le tradizioni delle Antiche Culture Protoeuropee basate sul modello della Società della Partnership da cui gli Insegnamenti connessi alla tradizione della Dea Rhiannon derivano. \nUn training di 10 incontri con Katinka Soetens\, solo per Donne in Cammino\, svolto in Italia\, è un percorso formativo ed esperienziale libero e autodeterminato\, che ci conduce a comprendere più a fondo le antiche tradizioni delle figure delle sacerdotesse e come poterle ri-attualizzare e rivivere oggi nei contenuti e nelle pratiche. \nDurante i tre anni di questo training (Base\, Avanzato\, Labirinto)\, ci incontreremo per conoscere i diversi aspetti della Dea\, basandoci sugli insegnamenti connessi alla Dea Rhiannon nella tradizione Avaloniana e al nostro essere Donne. \nImpareremo ad ascoltare e seguire la nostra guida interiore\, ad ascoltare come si esprime in e attraverso di noi. Scopriremo\, approfondiremo e ricorderemo le arti e le competenze di questa chiamata dell’anima e del corpo.\nLavoreremo con la sempre presente Dea interiore\, rimembreremo il contatto con il nostro “corpo come tempio”\, apprenderemo nuovi strumenti e ricorderemo i Misteri del Sacro Femminile\, il sedersi nel Cerchio di Donne eguali.\nLavoreremo singolarmente\, in coppie e in piccoli gruppi sul rapporto con la nostra fisicità ed emotività; comprenderemo ciò che ci impedisce di amare noi stesse e gli altri\, in modo da poter vedere e sperimentare la Dea nel nostro corpo così come in quelli intorno a noi. \nQuesto percorso includerà tra gli insegnamenti la conoscenza dei Riti di Passaggio del Femminile: la nascita\, il menarca\, i misteri del sangue mestruale\, l’handfasting\, il dare alla vita\, la menopausa\, l’aborto\, l’aborto spontaneo\, la guarigione interiore\, il tocco cosciente\, la danza sacra\, il matrimonio interiore\, il disarmo del corpo\, il risveglio dei sensi\, la capacità di esprimere i confini e conoscere i desideri\, il rilascio della paura\, il servizio sacro alla Dea e molto altro. \n\nKatinka Soetens\nOriginaria dei Paesi Bassi\, vive a Glastonbury/Avalon counselor certificata in Inghilterra e insegnante a livello internazionale nel potenziamento di sé attraverso la conoscenza del Sacro Femminile. Organizza regolarmente Moon-lodges e Cerchi Sacri per donne\, uomini e gruppi misti\, condividendo il Sentiero del Sacro Femminile con seminari e conferenze nel Regno Unito e nel mondo. Conduce cerimonie\, training e seminari sulla Dea per onorare la Spirale della Vita radicata nella spiritualità indigena delle terre europee e nella tradizione di Avalon. Katinka Soetens\, counselor e cerimonialista\, insegnante prenatale e doula\, è docente del corso triennale: “La Via di Rhiannon” a Glastonbury e in Italia\, facilita anche un percorso di un anno per gli uomini la “Fratellanza di Rhiannon”\, di cui sono attivi anche dei cerchi in Italia. È la direttrice e creatrice della Moon Butterflies-CIC\, un viaggio di conoscenza delle Tredici Lune all’interno dei Misteri della Fanciulla\, per le ragazze. Katinka è madre di tre figli\, doula\, danzatrice\, counselor; in Inghilterra. Lavora sul corpo attraverso percorsi di sacra intimità\, fertilità\, conoscenza del corpo\, perdono\, guarigione\, celebrazioni\, porta la sua visione della vita a luoghi e persone nel mondo. Organizzatrice del Festival annuale Glastonbury Goddess Conference (www.goddessconference.com) e fondatrice del Temple of Avalon (www.templeofavalon.co.uk). \nIl suo sito: https://pathoflovemysteryschool.com/ \n\nCome si sviluppa il Percorso\, in presenza:\nIl Percorso si sviluppa in 10 incontri in cui si affronteranno i seguenti temi in forma teorica e pratica: \n1°) Incontrare Rhiannon la Crona\, La Donna Saggia: Parleremo della Dea dell’Amore come custode della saggezza\, assegnatrice di compiti e portatrice di doni\, guarderemo nel suo specchio\, incontrando i nostri sé rinnegati e tutto ciò che desideriamo evitare. Scopriremo gli archetipi della Ruota di Rhiannon conoscendola in tutti i suoi aspetti che come donne rispecchiamo\, lavoreremo sul lasciare andare le nostre armature psicofisiche ed emotive\, in modo da poter iniziare il viaggio della conoscenza di Rhiannon. Sperimenteremo il dare e il ricevere il tocco elementale per aprire ulteriormente il flusso della sua energia e focalizzare la nostra centratura. \n2°) Incontrare Rhiannon dell’Aria\, L’incantatrice\, colei che canta la canzone dell’Anima: Parleremo della Dea dell’Amore come Dea dell’Aria\, questo archetipo ci guiderà mentre lavoriamo sulla respirazione per aprire i nostri chakra e sentire il pieno fluire della gioia di vivere ed imparare come risvegliare i sensi. Viaggiando in meditazione sciamanica\, riceveremo chiare visioni sugli schemi ancestrali del lignaggio che portiamo inscritto in noi; riscopriremo le nostre ali per imparare a volare attraverso le porte della nostra paura e inseguire la bellezza della natura. Approfondiremo il nostro impegno nel riportare alla luce la Dea in tutto ciò che facciamo. \n3°) Incontrare Rhiannon la Fanciulla Selvaggia: Parleremo della Dea dell’Amore come Fanciulla che tiene lo specchio del nostro Sé e ci mostra le nostre ombre: lavoreremo sugli archetipi della Fanciulla Schermata e della Principessa. Durante questo weekend rifletteremo su chi è la nostra Fanciulla Interiore e creeremo una Capanna della Luna\, imparando a tenere questo sacro spazio femminile per le altre. Lavoreremo con i misteri del ciclo mestruale e discuteremo e creeremo delle possibili cerimonie ad essi dedicate\, impareremo gli strumenti della capanna della luna e riconosceremo la nostra fanciulla interiore nel percorso personale\, troveremo i tesori che giacciono nascosti da tanto tempo dentro di noi per aiutarci a contattare la fanciulla primordiale nel nostro corpo; onoreremo e guariremo la nostra fanciulla interiore con una Cerimonia del Menarca. \n4°) Incontrare Rhiannon del Fuoco\, l’Esploratrice: Parleremo della Dea dell’Amore come Esploratrice e procederemo imparando a contattare l’energia della kundalini\, l’energia vitale contenuta nel nostro corpo. Lavoreremo con il fuoco della rabbia\, sulle nostre brucianti necessità insoddisfatte\, per ritrovare la fiamma dell’Amore nella sua pura essenza. Creeremo uno spazio sacro per onorare la nostra femminilità\, riconoscendo la nostra bellezza e saggezza attraverso la Celebrazione della Yoni. In questo weekend avremo l’occasione di danzare\, dipingere i nostri corpi\, celebrare la riconnessione con la Giovane Esploratrice che vive in noi. \n5°) Incontrare Rhiannon L’Amante\, Dakini e Iniziatrice: Parleremo della Dea dell’Amore nel suo aspetto di Amante\, la contatteremo nel nostro corpo\, imparando ad incorporare la sua energia. Dialogheremo confrontandoci sui nostri nodi sessuali\, le nostre ferite e le nostre esperienze. Impareremo nuove abilità per esprimere pienamente la nostra sessualità\, lavorando con i doni della presenza e della resa\, esploreremo la possibilità fondamentale dell’imparare a Fare l’Amore Consapevolmente. \n6°) Incontrare Rhiannon dell’Acqua\, La Sirena che nuota nel profondo: Parleremo della Dea dell’Amore come Dea degli Abissi della Coscienza\, Sirena Ancestrale\, colei che è in grado di nuotare nel profondo delle nostre anime e dei nostri corpi composti di acqua. Esploreremo i nostri confini personali\, comprendendo quanto possiamo essere aperte o chiuse interiormente e fisicamente\, mentre osserviamo le maree delle nostre emozioni. Creeremo e manterremo lo spazio per riconoscere le nostre proiezioni ed emozioni espresse ed inespresse. Impareremo a fare la “scelta della Sirena”\, tra il coltello e la lanterna. Impareremo a portare la Presenza nel tocco\, per comprendere l’essenza del nostro Dare e Ricevere. Faremo la conoscenza della danza del nostro Femminile e Maschile interiori. \n7°) Incontrare Rhiannon la Madre\, La Levatrice: Incontreremo la Dea dell’Amore come Madre e come Levatrice per la nostra crescita\, perché ci accompagni a guarire la nostra storia materna. Creeremo uno spazio sacro di meditazione dove addentrarci in un processo di ricontatto\,  e trasformazione delle ferite della nostra Linea Materna\, permettendo ai nostri cuori di aprirsi all’essenza del perdono e della riconoscenza. Connettendoci profondamente alla memoria e all’energia di creazione contenuta nelle nostre ovaie\, mediteremo nella compassionevole energia d’Amore della Dea Madre e attraverso di lei ci connetteremo al femminile collettivo e alla gratitudine. Impareremo a creare una cerimonia di benedizione. \n8°) Incontrare Rhiannon della Terra\, La Grande Regina: Incontreremo la Dea dell’Amore come Grande Regina\, Sovranità\, Custode e Regolatrice della Terra. Conosceremo luci e ombre dell’archetipo della Regina\, ci connetteremo all’energia della terra e riconosceremo e reclameremo il nostro territorio e il nostro reame: ovvero ciò di cui decidiamo di prenderci la Responsabilità. Esploreremo i confini della Libertà e della Responsabilità essenze stesse del potere. In sorellanza celebreremo il nostro essere Regine con una Cerimonia di Riconoscimento e Reclamazione. Lavoreremo sui temi dell’autolimitazione e dell’autoaffermazione\, della creatività pura\, della realizzazione dei propri obiettivi\, esploreremo il periodo della menopausa. \n9°) Incontrare Rhiannon del Labirinto: Incontreremo la Dea dell’Amore come Custode del Labirinto\, ci confronteremo sulle nostre paure della visibilità e di come il mondo e la storia hanno considerato e considerano le figure delle sacerdotesse\, lavorando sulla decostruzione del giudizio. Lavoreremo con il recupero della memoria dell’anima e del corpo\, per andare a riconoscere e sciogliere i nodi karmici ed emozionali del passato nel presente. \n10°) Incontrare Rhiannon del Centro della Ruota\, Iniziatrice\, Illuminatrice\, Fiamma del Cuore\, Specchio d’Amore: Giunte alla “fine” e “Inizio” del nostro viaggio\, costruiremo tutte insieme una Celebrazione dedicata a Rhiannon e Noi Stesse\, incontreremo la Dea dell’Amore nel suo Abbraccio Cosmico\, nelle nostre Anime e nei nostri Corpi. Condivideremo le competenze apprese nel percorso co-creando cerimonie che precederanno l’autodedicazione finale\, nella quale condivideremo le nostre Danze Sacre e diventeremo le Portatrici del Fuoco Sacro di Rhiannon. \n\nContributi di Partecipazione:\nIl Percorso in 10 Incontri è aperto a tutte le donne interessate. \na-Contributo per il percorso di dieci weekend: 2000\,00€\nb-Per chi ripete il corso la quota di partecipazione è di 1440€\n*Il Corso è destinato alle socie/i dell’Associazione Il Tempio della Dea è richiesto il tesseramento annuale base di 10\,00€ all’iscrizione. \nIl contributo si può versare in 6 rate (che saranno indicate sulla scheda di iscrizione) nella seguente modalità:\nIl versamento dei contributi può avvenire tramite bonifico bancario sul c/c intestato a:\nAssociazione di Promozione Sociale e Centro Ricerche per la Partnership Il Tempio della Dea\nBanca Intesa San Paolo\nIBAN: IT91 A030 6909 6061 0000 0136 346\nCausale: Proprio Cognome + Erogazione Liberale Percorso Katinka Soetens \n\nPer ricevere regolamento e scheda di iscrizione scrivere a: info@tempiodelladea.org \n\nTRAINING IN 10 INCONTRI: DATE DEL TRAINING 2025/2026/2027 \n\n\n\nNOVEMBRE 2025 SAB E DOM 22-23\nGENNAIO 2026 SAB E DOM 31 GEN-1 FEB \nMARZO 2026 SAB E DOM 28-29\nMAGGIO 2026 SAB E DOM 30-31\nLUGLIO 2026 SAB E DOM 11-12\nSETTEMBRE 2026 SAB E DOM 26-27 \nNOVEMBRE 2026 SAB E DOM 7-8 \nGENNAIO 2027 SAB E DOM 23-24 \nMARZO 2027 SAB E DOM 13-14\nMAGGIO 2027  SAB E DOM 8-9\n\n\n\nPer ricevere regolamento e scheda di iscrizione scrivere a: info@tempiodelladea.org \n\nConsigliata la lettura dei libri:\nL’Antico Sentiero di Consapevolezza delle Dee e delle Sacerdotesse dell’Amore. La Sacralità delle Emozioni e della Sessualità.\nEdizioni Ester\nAutrice: Katinka Soetens \nLibro agenda perenne della Ruota dell’Anno: La Ruota di Rhiannon Epona / The Wheel of Rhiannon Epona.\nEdizioni Ester. Disponibile in italiano e inglese\nLe Autrici: Katinka Soetens\, Sarah Perini\, Valentina Braghieri\, Marianna Bevilacqua\, Sabrina Miglia. \n\nPer informazioni e iscrizioni scrivere a: info@tempiodelladea.org \n\nTutti i contenuti sono soggetti a copyright ©
URL:https://tempiodelladea.org/evento/percorso-base-la-via-di-rhiannon-con-katinka-soetens-9/
LOCATION:Associazione di Promozione Sociale e Centro Ricerche per la Partnership Il Tempio della Dea\, C.so Vinzaglio 12 bis Torino
ATTACH;FMTTYPE=image/jpeg:https://tempiodelladea.org/nuovosito/wp-content/uploads/2021/12/rihannon.jpg
END:VEVENT
END:VCALENDAR